BEGIN:VCALENDAR
VERSION:2.0
PRODID:-//Drupal iCal API//EN
X-WR-CALNAME:Events items teaser
X-WR-TIMEZONE:America/Toronto
BEGIN:VTIMEZONE
TZID:America/Toronto
X-LIC-LOCATION:America/Toronto
BEGIN:DAYLIGHT
TZNAME:EDT
TZOFFSETFROM:-0500
TZOFFSETTO:-0400
DTSTART:20250309T070000
END:DAYLIGHT
BEGIN:STANDARD
TZNAME:EST
TZOFFSETFROM:-0400
TZOFFSETTO:-0500
DTSTART:20241103T060000
END:STANDARD
END:VTIMEZONE
BEGIN:VEVENT
UID:69eb9db09f4a0
DTSTART;TZID=America/Toronto:20250502T150000
SEQUENCE:0
TRANSP:TRANSPARENT
DTEND;TZID=America/Toronto:20250502T170000
URL:https://uwaterloo.ca/electrical-computer-engineering/events/masc-semina
 r-notice-electrochemical-capacitance-voltage
SUMMARY:MASc Seminar Notice: Electrochemical Capacitance-Voltage Profiling 
 of\nCarrier Distributions in Advanced III-V Semiconductor Epitaxial\nStruc
 tures
CLASS:PUBLIC
DESCRIPTION:Candidate: Yazan Qudsi\n\nDate: May 2\, 2025\n\nTime: 3:00pm\n
 \nLocation: Microsoft Teams (restricted to invite only)\n\nSupervisor: Z
 bigniew Wasilewski
DTSTAMP:20260424T164328Z
END:VEVENT
END:VCALENDAR