BEGIN:VCALENDAR
VERSION:2.0
PRODID:-//Drupal iCal API//EN
X-WR-CALNAME:Events items teaser
X-WR-TIMEZONE:America/Toronto
BEGIN:VTIMEZONE
TZID:America/Toronto
X-LIC-LOCATION:America/Toronto
BEGIN:DAYLIGHT
TZNAME:EDT
TZOFFSETFROM:-0500
TZOFFSETTO:-0400
DTSTART:20250309T070000
END:DAYLIGHT
BEGIN:STANDARD
TZNAME:EST
TZOFFSETFROM:-0400
TZOFFSETTO:-0500
DTSTART:20241103T060000
END:STANDARD
END:VTIMEZONE
BEGIN:VEVENT
UID:69e899649ee9a
DTSTART;TZID=America/Toronto:20250606T110000
SEQUENCE:0
TRANSP:TRANSPARENT
DTEND;TZID=America/Toronto:20250606T123000
URL:https://uwaterloo.ca/electrical-computer-engineering/events/ieee-emc-so
 ciety-distinguished-lecture-reconciling-emc-and
LOCATION:EIT - Centre for Environmental and Information Technology 200 Univ
 ersity Avenue West Room 3142 Waterloo ON N2L 3G1 Canada
SUMMARY:IEEE EMC Society Distinguished Lecture: Reconciling EMC and OTA:\nT
 echnical Trade-offs and Innovations in Far-Field Measurement for\nElectric
 ally Large Devices 
CLASS:PUBLIC
DESCRIPTION:Speaker: Dr. Benoit Derat\n\nDate: June 6\, 2025\n\nTime: 11:00
  AM - 12:30 PM\n\nLocation: Room EIT 3142\n\nAll are welcome!
DTSTAMP:20260422T094820Z
END:VEVENT
END:VCALENDAR