BEGIN:VCALENDAR
VERSION:2.0
PRODID:-//Drupal iCal API//EN
X-WR-CALNAME:Events items teaser
X-WR-TIMEZONE:America/Toronto
BEGIN:VTIMEZONE
TZID:America/Toronto
X-LIC-LOCATION:America/Toronto
BEGIN:DAYLIGHT
TZNAME:EDT
TZOFFSETFROM:-0500
TZOFFSETTO:-0400
DTSTART:20250309T070000
END:DAYLIGHT
BEGIN:STANDARD
TZNAME:EST
TZOFFSETFROM:-0400
TZOFFSETTO:-0500
DTSTART:20241103T060000
END:STANDARD
END:VTIMEZONE
BEGIN:VEVENT
UID:69eb9da99a53e
DTSTART;TZID=America/Toronto:20250623T110000
SEQUENCE:0
TRANSP:TRANSPARENT
DTEND;TZID=America/Toronto:20250623T120000
URL:https://uwaterloo.ca/electrical-computer-engineering/events/ieee-guest-
 lecture-overcoming-efficiency-and-linearity
LOCATION:EIT - Centre for Environmental and Information Technology 200 Univ
 ersity Avenue West Room 3142 Waterloo ON N2L 3G1 Canada
SUMMARY:IEEE Guest Lecture: Overcoming Efficiency and Linearity Challenges 
 in\n6G RF Power Amplifiers
CLASS:PUBLIC
DESCRIPTION:Speaker: Dr. Anding Zhu\, School of Electrical and Electronic\
 nEngineering\, University College Dublin\, Ireland\n\nDate: June 23\, 2025
  \n\nTime: 11:00 AM – 12:00 PM\n\nLocation: Room EIT 3142\n\nAll are we
 lcome!
DTSTAMP:20260424T164321Z
END:VEVENT
END:VCALENDAR