BEGIN:VCALENDAR
VERSION:2.0
PRODID:-//Drupal iCal API//EN
X-WR-CALNAME:Events items teaser
X-WR-TIMEZONE:America/Toronto
BEGIN:VTIMEZONE
TZID:America/Toronto
X-LIC-LOCATION:America/Toronto
BEGIN:DAYLIGHT
TZNAME:EDT
TZOFFSETFROM:-0500
TZOFFSETTO:-0400
DTSTART:20250309T070000
END:DAYLIGHT
BEGIN:STANDARD
TZNAME:EST
TZOFFSETFROM:-0400
TZOFFSETTO:-0500
DTSTART:20241103T060000
END:STANDARD
END:VTIMEZONE
BEGIN:VEVENT
UID:69e7dbbea2248
DTSTART;TZID=America/Toronto:20250807T110000
SEQUENCE:0
TRANSP:TRANSPARENT
DTEND;TZID=America/Toronto:20250807T120000
URL:https://uwaterloo.ca/electrical-computer-engineering/events/masc-semina
 r-notice-inference-encoder-transformers-efpgas
SUMMARY:MASc Seminar Notice: Inference of Encoder Transformers on eFPGAs vi
 a\nStructured Resource Management
CLASS:PUBLIC
DESCRIPTION:Candidate: Omar Elayat\n\nDate: August 7\, 2025\n\nTime: 11:0
 0am\n\nLocation: online\n\nSupervisor: Dr. Vincent Gaudet\n\nAll are welc
 ome!
DTSTAMP:20260421T201910Z
END:VEVENT
END:VCALENDAR