BEGIN:VCALENDAR
VERSION:2.0
PRODID:-//Drupal iCal API//EN
X-WR-CALNAME:Events items teaser
X-WR-TIMEZONE:America/Toronto
BEGIN:VTIMEZONE
TZID:America/Toronto
X-LIC-LOCATION:America/Toronto
BEGIN:DAYLIGHT
TZNAME:EDT
TZOFFSETFROM:-0500
TZOFFSETTO:-0400
DTSTART:20250309T070000
END:DAYLIGHT
BEGIN:STANDARD
TZNAME:EST
TZOFFSETFROM:-0400
TZOFFSETTO:-0500
DTSTART:20241103T060000
END:STANDARD
END:VTIMEZONE
BEGIN:VEVENT
UID:69eb9db62b3ac
DTSTART;TZID=America/Toronto:20250813T140000
SEQUENCE:0
TRANSP:TRANSPARENT
DTEND;TZID=America/Toronto:20250813T150000
URL:https://uwaterloo.ca/electrical-computer-engineering/events/masc-semina
 r-notice-planning-under-uncertainty-informative
SUMMARY:MASc Seminar Notice: Planning Under Uncertainty: Informative and\nS
 tochastic Path Planning via Gaussian Processes
CLASS:PUBLIC
DESCRIPTION:Candidate: Avraiem Iskandar\n\nDate: August 13\, 2025\n\nTime:
  2:00pm\n\nLocation: Online\n[https://teams.microsoft.com/l/meetup-join/19
 %3ameeting_YjliZDk0NWItM2MyZC00NDQyLWIwZmEtMTU1ZjU3MWEwMWJl%40thread.v2/0?
 context=%7b%22Tid%22%3a%22723a5a87-f39a-4a22-9247-3fc240c01396%22%2c%22Oid
 %22%3a%22b2d7c8f2-de98-4cef-9771-f05df64a776e%22%7d]\n\nSupervisor: Drs. 
 Stephen L. Smith and Yash Vardhan Pant\n\n_All are welcome!_
DTSTAMP:20260424T164334Z
END:VEVENT
END:VCALENDAR