BEGIN:VCALENDAR
VERSION:2.0
PRODID:-//Drupal iCal API//EN
X-WR-CALNAME:Events items teaser
X-WR-TIMEZONE:America/Toronto
BEGIN:VTIMEZONE
TZID:America/Toronto
X-LIC-LOCATION:America/Toronto
BEGIN:DAYLIGHT
TZNAME:EDT
TZOFFSETFROM:-0500
TZOFFSETTO:-0400
DTSTART:20250309T070000
END:DAYLIGHT
BEGIN:STANDARD
TZNAME:EST
TZOFFSETFROM:-0400
TZOFFSETTO:-0500
DTSTART:20241103T060000
END:STANDARD
END:VTIMEZONE
BEGIN:VEVENT
UID:69eb9db12009d
DTSTART;TZID=America/Toronto:20250811T100000
SEQUENCE:0
TRANSP:TRANSPARENT
DTEND;TZID=America/Toronto:20250811T110000
URL:https://uwaterloo.ca/electrical-computer-engineering/events/phd-compreh
 ensive-proposal-examination-notice-compute-memory
LOCATION:E5 - Engineering 5 200 University Avenue West room 5106 Waterloo O
 N N2L 3G1 Canada
SUMMARY:PhD Comprehensive Proposal Examination Notice: A Compute-in-Memory\
 nCore for Energy-Efficient AI
CLASS:PUBLIC
DESCRIPTION:Candidate: Brian Rojkov\n\nDate: August 11\, 2025\n\nTime: 10:0
 0 AM\n\nLocation: E5 5106\n\nSupervisor: Sachdev\, Manoj – Wright\, Dere
 k
DTSTAMP:20260424T164329Z
END:VEVENT
END:VCALENDAR