BEGIN:VCALENDAR
VERSION:2.0
PRODID:-//Drupal iCal API//EN
X-WR-CALNAME:Events items teaser
X-WR-TIMEZONE:America/Toronto
BEGIN:VTIMEZONE
TZID:America/Toronto
X-LIC-LOCATION:America/Toronto
BEGIN:DAYLIGHT
TZNAME:EDT
TZOFFSETFROM:-0500
TZOFFSETTO:-0400
DTSTART:20250309T070000
END:DAYLIGHT
BEGIN:STANDARD
TZNAME:EST
TZOFFSETFROM:-0400
TZOFFSETTO:-0500
DTSTART:20241103T060000
END:STANDARD
END:VTIMEZONE
BEGIN:VEVENT
UID:69ea71c612b01
DTSTART;TZID=America/Toronto:20250813T110000
SEQUENCE:0
TRANSP:TRANSPARENT
DTEND;TZID=America/Toronto:20250813T120000
URL:https://uwaterloo.ca/electrical-computer-engineering/events/phd-defence
 -notice-contrast-agent-design-molecular
LOCATION:EIT - Centre for Environmental and Information Technology 200 Univ
 ersity Avenue West room 3142 Waterloo ON N2L 3G1 Canada
SUMMARY:PhD Defence Notice: Contrast Agent Design for Molecular Ultrasound\
 nImaging of Aging Clots
CLASS:PUBLIC
DESCRIPTION:Candidate: Richard Shangguan\n\nDate: August 13\, 2025\n\nTime:
  11:00 AM\n\nLocation: EIT 3142\n\nSupervisors: Yu\, Alfred
DTSTAMP:20260423T192350Z
END:VEVENT
END:VCALENDAR