BEGIN:VCALENDAR
VERSION:2.0
PRODID:-//Drupal iCal API//EN
X-WR-CALNAME:Events items teaser
X-WR-TIMEZONE:America/Toronto
BEGIN:VTIMEZONE
TZID:America/Toronto
X-LIC-LOCATION:America/Toronto
BEGIN:DAYLIGHT
TZNAME:EDT
TZOFFSETFROM:-0500
TZOFFSETTO:-0400
DTSTART:20250309T070000
END:DAYLIGHT
BEGIN:STANDARD
TZNAME:EST
TZOFFSETFROM:-0400
TZOFFSETTO:-0500
DTSTART:20241103T060000
END:STANDARD
END:VTIMEZONE
BEGIN:VEVENT
UID:69eb9dab2279c
DTSTART;TZID=America/Toronto:20250909T110000
SEQUENCE:0
TRANSP:TRANSPARENT
DTEND;TZID=America/Toronto:20250909T130000
URL:https://uwaterloo.ca/electrical-computer-engineering/events/phd-compreh
 ensive-proposal-examination-notice-towards-0
LOCATION:EIT - Centre for Environmental and Information Technology 200 Univ
 ersity Avenue West Room 3142 Waterloo ON N2L 3G1 Canada
SUMMARY:PhD Comprehensive Proposal Examination Notice: Towards an\nOrchestr
 ation Framework to Optimize Adaptive Agentic Workflows
CLASS:PUBLIC
DESCRIPTION:Candidate: Shizhe Lin\n\nDate: September 9\, 2025\n\nTime: 11:0
 0 AM\n\nLocation: EIT 3142\n\nSupervisor: Dr. Ladan Tahvildari
DTSTAMP:20260424T164323Z
END:VEVENT
END:VCALENDAR