BEGIN:VCALENDAR
VERSION:2.0
PRODID:-//Drupal iCal API//EN
X-WR-CALNAME:Events items teaser
X-WR-TIMEZONE:America/Toronto
BEGIN:VTIMEZONE
TZID:America/Toronto
X-LIC-LOCATION:America/Toronto
BEGIN:DAYLIGHT
TZNAME:EDT
TZOFFSETFROM:-0500
TZOFFSETTO:-0400
DTSTART:20250309T070000
END:DAYLIGHT
BEGIN:STANDARD
TZNAME:EST
TZOFFSETFROM:-0400
TZOFFSETTO:-0500
DTSTART:20241103T060000
END:STANDARD
END:VTIMEZONE
BEGIN:VEVENT
UID:69eb9db0265d4
DTSTART;TZID=America/Toronto:20250918T090000
SEQUENCE:0
TRANSP:TRANSPARENT
DTEND;TZID=America/Toronto:20250918T110000
URL:https://uwaterloo.ca/electrical-computer-engineering/events/phd-defence
 -notice-enhancing-social-learning-non-expert
LOCATION:EIT - Centre for Environmental and Information Technology 200 Univ
 ersity Avenue West Room 3145 Waterloo ON N2L 3G1 Canada
SUMMARY:PhD Defence Notice: Enhancing Social Learning from Non-expert Human
 \nTeachers in Humanoid Robots
CLASS:PUBLIC
DESCRIPTION:Candidate: Pourya Aliasghari\n\nDate: September 18\, 2025\n\nTi
 me: 9:00 AM\n\nLocation: EIT 3145\n\nSupervisors: Dr. Kerstin Dautenhahn\,
  Dr. Chrystopher L. Nehaniv\, and\nDr. Moojan Ghafurian
DTSTAMP:20260424T164328Z
END:VEVENT
END:VCALENDAR