BEGIN:VCALENDAR
VERSION:2.0
PRODID:-//Drupal iCal API//EN
X-WR-CALNAME:Events items teaser
X-WR-TIMEZONE:America/Toronto
BEGIN:VTIMEZONE
TZID:America/Toronto
X-LIC-LOCATION:America/Toronto
BEGIN:DAYLIGHT
TZNAME:EDT
TZOFFSETFROM:-0500
TZOFFSETTO:-0400
DTSTART:20250309T070000
END:DAYLIGHT
BEGIN:STANDARD
TZNAME:EST
TZOFFSETFROM:-0400
TZOFFSETTO:-0500
DTSTART:20241103T060000
END:STANDARD
END:VTIMEZONE
BEGIN:VEVENT
UID:69eb9dbb9d1b8
DTSTART;TZID=America/Toronto:20250919T140000
SEQUENCE:0
TRANSP:TRANSPARENT
DTEND;TZID=America/Toronto:20250919T160000
URL:https://uwaterloo.ca/electrical-computer-engineering/events/phd-defence
 -notice-radio-resource-management-hybrid
LOCATION:EIT - Centre for Environmental and Information Technology 200 Univ
 ersity Avenue West Room 3142 Waterloo ON N2L 3G1 Canada
SUMMARY:PhD Defence Notice: Radio Resource Management of Hybrid Beamforming
 \nSystems
CLASS:PUBLIC
DESCRIPTION:Candidate: Euan Quan\n\nDate: September 19\, 2025\n\nTime: 2:00
  PM\n\nLocation: EIT 3142\n\nSupervisor: Dr. Catherine Rosenberg
DTSTAMP:20260424T164339Z
END:VEVENT
END:VCALENDAR