BEGIN:VCALENDAR
VERSION:2.0
PRODID:-//Drupal iCal API//EN
X-WR-CALNAME:Events items teaser
X-WR-TIMEZONE:America/Toronto
BEGIN:VTIMEZONE
TZID:America/Toronto
X-LIC-LOCATION:America/Toronto
BEGIN:DAYLIGHT
TZNAME:EDT
TZOFFSETFROM:-0500
TZOFFSETTO:-0400
DTSTART:20250309T070000
END:DAYLIGHT
BEGIN:STANDARD
TZNAME:EST
TZOFFSETFROM:-0400
TZOFFSETTO:-0500
DTSTART:20241103T060000
END:STANDARD
END:VTIMEZONE
BEGIN:VEVENT
UID:69eb9dbd241e2
DTSTART;TZID=America/Toronto:20250923T100000
SEQUENCE:0
TRANSP:TRANSPARENT
DTEND;TZID=America/Toronto:20250923T110000
URL:https://uwaterloo.ca/electrical-computer-engineering/events/masc-semina
 r-notice-empirical-study-privacy-leakage
SUMMARY:MASc Seminar Notice: An Empirical Study of Privacy Leakage\nVulnera
 bility in third party Android Logs libraries
CLASS:PUBLIC
DESCRIPTION:Candidate: Yixi Zhao\n\nDate: September 23\, 2025\n\nTime: 10:0
 0 am\n\nLocation: online\n\nSupervisor: Weiyi Shang\n\n_All are welcome!_
DTSTAMP:20260424T164341Z
END:VEVENT
END:VCALENDAR