BEGIN:VCALENDAR
VERSION:2.0
PRODID:-//Drupal iCal API//EN
X-WR-CALNAME:Events items teaser
X-WR-TIMEZONE:America/Toronto
BEGIN:VTIMEZONE
TZID:America/Toronto
X-LIC-LOCATION:America/Toronto
BEGIN:DAYLIGHT
TZNAME:EDT
TZOFFSETFROM:-0500
TZOFFSETTO:-0400
DTSTART:20250309T070000
END:DAYLIGHT
BEGIN:STANDARD
TZNAME:EST
TZOFFSETFROM:-0400
TZOFFSETTO:-0500
DTSTART:20241103T060000
END:STANDARD
END:VTIMEZONE
BEGIN:VEVENT
UID:69ea71c594775
DTSTART;TZID=America/Toronto:20251020T123000
SEQUENCE:0
TRANSP:TRANSPARENT
DTEND;TZID=America/Toronto:20251020T133000
URL:https://uwaterloo.ca/electrical-computer-engineering/events/phd-seminar
 -notice-control-and-stability-grid-forming
SUMMARY:PhD Seminar Notice: Control and Stability of Grid-Forming Inverters
CLASS:PUBLIC
DESCRIPTION:Candidate: Marzie Sadat Mirmohammad Meiguni\n\nDate: October 
 20\, 2025\n\nTime: 12:30pm\n\nLocation: Online\n[https://teams.microsoft.c
 om/l/meetup-join/19%3ameeting_ZWVkM2E5YWYtOTc4OC00MTVlLWI2MGItMjFjNmIxNmNj
 YmJk%40thread.v2/0?context=%7b%22Tid%22%3a%22723a5a87-f39a-4a22-9247-3fc24
 0c01396%22%2c%22Oid%22%3a%2299f8350e-0da1-4f86-8433-965d6e71db1e%22%7d]\n\
 nSupervisor: Dr. Sahar Pirooz Azad\n\nAll are welcome!
DTSTAMP:20260423T192349Z
END:VEVENT
END:VCALENDAR