BEGIN:VCALENDAR
VERSION:2.0
PRODID:-//Drupal iCal API//EN
X-WR-CALNAME:Events items teaser
X-WR-TIMEZONE:America/Toronto
BEGIN:VTIMEZONE
TZID:America/Toronto
X-LIC-LOCATION:America/Toronto
BEGIN:DAYLIGHT
TZNAME:EDT
TZOFFSETFROM:-0500
TZOFFSETTO:-0400
DTSTART:20250309T070000
END:DAYLIGHT
BEGIN:STANDARD
TZNAME:EST
TZOFFSETFROM:-0400
TZOFFSETTO:-0500
DTSTART:20241103T060000
END:STANDARD
END:VTIMEZONE
BEGIN:VEVENT
UID:69e8bac2409d9
DTSTART;TZID=America/Toronto:20251021T110000
SEQUENCE:0
TRANSP:TRANSPARENT
DTEND;TZID=America/Toronto:20251021T120000
URL:https://uwaterloo.ca/electrical-computer-engineering/events/phd-seminar
 -notice-fabrication-high-aspect-ratio-afm-tip
SUMMARY:PhD Seminar Notice: Fabrication of High Aspect Ratio AFM Tip Using\
 nSilicon And Diamond
CLASS:PUBLIC
DESCRIPTION:Candidate: Farheen Nasir\n\nDate: October 21\, 2025\n\nTime: 11
 :00am\n\nLocation: Online\n[https://teams.microsoft.com/l/meetup-join/19%3
 ameeting_MGI2MjcwMGQtMzY0Ni00MWQzLTg5OTctNTU5OTc4OWE1MTE2%40thread.v2/0?co
 ntext=%7b%22Tid%22%3a%22723a5a87-f39a-4a22-9247-3fc240c01396%22%2c%22Oid%2
 2%3a%222919f064-98f1-456f-804c-b51621e196b3%22%7d]\n\nSupervisor: Dr. Guo-
 Xing Miao\n\nAll are welcome!
DTSTAMP:20260422T121042Z
END:VEVENT
END:VCALENDAR