BEGIN:VCALENDAR
VERSION:2.0
PRODID:-//Drupal iCal API//EN
X-WR-CALNAME:Events items teaser
X-WR-TIMEZONE:America/Toronto
BEGIN:VTIMEZONE
TZID:America/Toronto
X-LIC-LOCATION:America/Toronto
BEGIN:DAYLIGHT
TZNAME:EDT
TZOFFSETFROM:-0500
TZOFFSETTO:-0400
DTSTART:20250309T070000
END:DAYLIGHT
BEGIN:STANDARD
TZNAME:EST
TZOFFSETFROM:-0400
TZOFFSETTO:-0500
DTSTART:20251102T060000
END:STANDARD
END:VTIMEZONE
BEGIN:VEVENT
UID:69eb9daa2e95e
DTSTART;TZID=America/Toronto:20251219T093000
SEQUENCE:0
TRANSP:TRANSPARENT
DTEND;TZID=America/Toronto:20251219T103000
URL:https://uwaterloo.ca/electrical-computer-engineering/events/phd-compreh
 ensive-proposal-examination-notice-applied
LOCATION:EIT - Centre for Environmental and Information Technology 200 Univ
 ersity Avenue West Room 3142 Waterloo ON N2L 3G1 Canada
SUMMARY:PhD Comprehensive Proposal Examination Notice: Applied Optomagnetic
 s\nin Superconductors and 2D Materials
CLASS:PUBLIC
DESCRIPTION:Candidate: Anoop Dhillon\n\nDate: December 19\, 2025\n\nTime: 9
 :30 AM\n\nLocation: EIT 3142\n\nSupervisor: Majedi\, Hamed\n\nAll are welc
 ome!
DTSTAMP:20260424T164322Z
END:VEVENT
END:VCALENDAR