BEGIN:VCALENDAR
VERSION:2.0
PRODID:-//Drupal iCal API//EN
X-WR-CALNAME:Events items teaser
X-WR-TIMEZONE:America/Toronto
BEGIN:VTIMEZONE
TZID:America/Toronto
X-LIC-LOCATION:America/Toronto
BEGIN:DAYLIGHT
TZNAME:EDT
TZOFFSETFROM:-0500
TZOFFSETTO:-0400
DTSTART:20250309T070000
END:DAYLIGHT
BEGIN:STANDARD
TZNAME:EST
TZOFFSETFROM:-0400
TZOFFSETTO:-0500
DTSTART:20251102T060000
END:STANDARD
END:VTIMEZONE
BEGIN:VEVENT
UID:69ea71c7930b5
DTSTART;TZID=America/Toronto:20260113T100000
SEQUENCE:0
TRANSP:TRANSPARENT
DTEND;TZID=America/Toronto:20260113T110000
URL:https://uwaterloo.ca/electrical-computer-engineering/events/phd-defence
 -notice-resource-management-edge-assisted
SUMMARY:PhD Defence Notice: Resource Management for Edge-Assisted Extended\
 nReality
CLASS:PUBLIC
DESCRIPTION:Candidate: Yingying Pei\n\nDate: January 13\, 2026\n\nTime: 10:
 00 AM\n\nLocation: Online - contact the candidate for more information.\n\
 nSupervisor: Dr. Sherman Shen\n\nAll are welcome!
DTSTAMP:20260423T192351Z
END:VEVENT
END:VCALENDAR