BEGIN:VCALENDAR
VERSION:2.0
PRODID:-//Drupal iCal API//EN
X-WR-CALNAME:Events items teaser
X-WR-TIMEZONE:America/Toronto
BEGIN:VTIMEZONE
TZID:America/Toronto
X-LIC-LOCATION:America/Toronto
BEGIN:DAYLIGHT
TZNAME:EDT
TZOFFSETFROM:-0500
TZOFFSETTO:-0400
DTSTART:20250309T070000
END:DAYLIGHT
BEGIN:STANDARD
TZNAME:EST
TZOFFSETFROM:-0400
TZOFFSETTO:-0500
DTSTART:20251102T060000
END:STANDARD
END:VTIMEZONE
BEGIN:VEVENT
UID:69eb9daf995d0
DTSTART;TZID=America/Toronto:20260203T120000
SEQUENCE:0
TRANSP:TRANSPARENT
DTEND;TZID=America/Toronto:20260203T130000
URL:https://uwaterloo.ca/electrical-computer-engineering/events/phd-seminar
 -notice-bright-entangled-photon-pair-generation
SUMMARY:PhD Seminar Notice: Bright entangled photon pair generation from a\
 nquantum dot in a weak nanowire cavity
CLASS:PUBLIC
DESCRIPTION:Candidate: Matteo Pennacchietti\n\nDate: February 3\, 2026\n\
 nTime: 12:00pm\n\nLocation: Contact the candidate for details\n\nSuperviso
 r: Dr. Michael Reimer\n\nAll are welcome!
DTSTAMP:20260424T164327Z
END:VEVENT
END:VCALENDAR