BEGIN:VCALENDAR
VERSION:2.0
PRODID:-//Drupal iCal API//EN
X-WR-CALNAME:Events items teaser
X-WR-TIMEZONE:America/Toronto
BEGIN:VTIMEZONE
TZID:America/Toronto
X-LIC-LOCATION:America/Toronto
BEGIN:DAYLIGHT
TZNAME:EDT
TZOFFSETFROM:-0500
TZOFFSETTO:-0400
DTSTART:20250309T070000
END:DAYLIGHT
BEGIN:STANDARD
TZNAME:EST
TZOFFSETFROM:-0400
TZOFFSETTO:-0500
DTSTART:20251102T060000
END:STANDARD
END:VTIMEZONE
BEGIN:VEVENT
UID:69e7b0c711543
DTSTART;TZID=America/Toronto:20260130T140000
SEQUENCE:0
TRANSP:TRANSPARENT
DTEND;TZID=America/Toronto:20260130T150000
URL:https://uwaterloo.ca/electrical-computer-engineering/events/phd-seminar
 -notice-trustworthy-federated-learning-unified
SUMMARY:PhD Seminar Notice: Trustworthy Federated Learning: A Unified\nFram
 ework For Security\, Privacy\, And Verifiability
CLASS:PUBLIC
DESCRIPTION:Candidate: Biniyam Deressa\n\nDate: January 30\, 2026\n\nTime
 : 2:00pm\n\nLocation: Online—contact the candidate for more details.\n\
 nSupervisor: Dr. Anwar Hasan\n\nAll are welcome!
DTSTAMP:20260421T171551Z
END:VEVENT
END:VCALENDAR