BEGIN:VCALENDAR
VERSION:2.0
PRODID:-//Drupal iCal API//EN
X-WR-CALNAME:Events items teaser
X-WR-TIMEZONE:America/Toronto
BEGIN:VTIMEZONE
TZID:America/Toronto
X-LIC-LOCATION:America/Toronto
BEGIN:DAYLIGHT
TZNAME:EDT
TZOFFSETFROM:-0500
TZOFFSETTO:-0400
DTSTART:20250309T070000
END:DAYLIGHT
BEGIN:STANDARD
TZNAME:EST
TZOFFSETFROM:-0400
TZOFFSETTO:-0500
DTSTART:20251102T060000
END:STANDARD
END:VTIMEZONE
BEGIN:VEVENT
UID:69ea71c81065d
DTSTART;TZID=America/Toronto:20260210T120000
SEQUENCE:0
TRANSP:TRANSPARENT
DTEND;TZID=America/Toronto:20260210T133000
URL:https://uwaterloo.ca/electrical-computer-engineering/events/ieee-mtt-s-
 webinar-mammography-using-low-frequency
SUMMARY:IEEE MTT-S Webinar: Mammography using Low Frequency Electromagnetic
 \nEnergy: Is it possible?
CLASS:PUBLIC
DESCRIPTION:Speaker: Dr. Omar Ramahi\n\nDate: February 10\, 2025\n\nTime: 1
 2:00pm\n\nLocation: Online - registration required.\n\nAll are welcome!
DTSTAMP:20260423T192352Z
END:VEVENT
END:VCALENDAR