BEGIN:VCALENDAR
VERSION:2.0
PRODID:-//Drupal iCal API//EN
X-WR-CALNAME:Events items teaser
X-WR-TIMEZONE:America/Toronto
BEGIN:VTIMEZONE
TZID:America/Toronto
X-LIC-LOCATION:America/Toronto
BEGIN:DAYLIGHT
TZNAME:EDT
TZOFFSETFROM:-0500
TZOFFSETTO:-0400
DTSTART:20250309T070000
END:DAYLIGHT
BEGIN:STANDARD
TZNAME:EST
TZOFFSETFROM:-0400
TZOFFSETTO:-0500
DTSTART:20251102T060000
END:STANDARD
END:VTIMEZONE
BEGIN:VEVENT
UID:69ecb93439146
DTSTART;TZID=America/Toronto:20260227T103000
SEQUENCE:0
TRANSP:TRANSPARENT
DTEND;TZID=America/Toronto:20260227T120000
URL:https://uwaterloo.ca/electrical-computer-engineering/events/seminar-and
 -demonstration-4-source-pna-x-pro-transforming-rf
LOCATION:EIT - Centre for Environmental and Information Technology 200 Univ
 ersity Avenue West Room 3142 Waterloo ON N2L 3G1 Canada
SUMMARY:Seminar and Demonstration: The 4-source PNA-X Pro is transforming R
 F\nmeasurement and characterization
CLASS:PUBLIC
DESCRIPTION:Title: The 4-source PNA-X Pro is transforming RF measurement 
 and\ncharacterization\n\nDate: February 27\, 2026\n\nTime: 10:30am to 12:0
 0pm\n\nRoom: EIT 3142\n\nPresenter: Aidin Taeb\, Keysight Technologies
DTSTAMP:20260425T125308Z
END:VEVENT
END:VCALENDAR