BEGIN:VCALENDAR
VERSION:2.0
PRODID:-//Drupal iCal API//EN
X-WR-CALNAME:Events items teaser
X-WR-TIMEZONE:America/Toronto
BEGIN:VTIMEZONE
TZID:America/Toronto
X-LIC-LOCATION:America/Toronto
BEGIN:DAYLIGHT
TZNAME:EDT
TZOFFSETFROM:-0500
TZOFFSETTO:-0400
DTSTART:20260308T070000
END:DAYLIGHT
BEGIN:STANDARD
TZNAME:EST
TZOFFSETFROM:-0400
TZOFFSETTO:-0500
DTSTART:20251102T060000
END:STANDARD
END:VTIMEZONE
BEGIN:VEVENT
UID:69ea71c88c11d
DTSTART;TZID=America/Toronto:20260312T110000
SEQUENCE:0
TRANSP:TRANSPARENT
DTEND;TZID=America/Toronto:20260312T120000
URL:https://uwaterloo.ca/electrical-computer-engineering/events/ece-seminar
 -notice-towards-instance-customizable-operating
LOCATION:EIT - Centre for Environmental and Information Technology 200 Univ
 ersity Avenue West Room 3142 Waterloo ON N2L 3G1 Canada
SUMMARY:ECE Seminar Notice: Towards Instance-Customizable Operating Systems
CLASS:PUBLIC
DESCRIPTION:Speaker: Dr. Jing Liu\, Microsoft Research Asia\n\nDate: March
  12\, 2026\n\nTime: 11:00am to 12:00pm\n\nLocation: EIT 3142
DTSTAMP:20260423T192352Z
END:VEVENT
END:VCALENDAR