BEGIN:VCALENDAR
VERSION:2.0
PRODID:-//Drupal iCal API//EN
X-WR-CALNAME:Events items teaser
X-WR-TIMEZONE:America/Toronto
BEGIN:VTIMEZONE
TZID:America/Toronto
X-LIC-LOCATION:America/Toronto
BEGIN:DAYLIGHT
TZNAME:EDT
TZOFFSETFROM:-0500
TZOFFSETTO:-0400
DTSTART:20260308T070000
END:DAYLIGHT
BEGIN:STANDARD
TZNAME:EST
TZOFFSETFROM:-0400
TZOFFSETTO:-0500
DTSTART:20251102T060000
END:STANDARD
END:VTIMEZONE
BEGIN:VEVENT
UID:69ea40d5c31fb
DTSTART;TZID=America/Toronto:20260324T150000
SEQUENCE:0
TRANSP:TRANSPARENT
DTEND;TZID=America/Toronto:20260324T170000
URL:https://uwaterloo.ca/electrical-computer-engineering/events/phd-compreh
 ensive-proposal-examination-notice-toward-real
LOCATION:EIT - Centre for Environmental and Information Technology 200 Univ
 ersity Avenue West Room 3142 Waterloo ON N2L 3G1 Canada
SUMMARY:PhD Comprehensive Proposal Examination Notice: Toward Real-World\nV
 ision-Language Navigation through Multi-Dimensional Adaptation
CLASS:PUBLIC
DESCRIPTION:Candidate: Josh Sun\n\nDate: March 24\, 2026\n\nTime: 3:00 PM\n
 \nLocation: EIT 3142\n\nSupervisor: Crowley\, Mark
DTSTAMP:20260423T155501Z
END:VEVENT
END:VCALENDAR