BEGIN:VCALENDAR
VERSION:2.0
PRODID:-//Drupal iCal API//EN
X-WR-CALNAME:Events items teaser
X-WR-TIMEZONE:America/Toronto
BEGIN:VTIMEZONE
TZID:America/Toronto
X-LIC-LOCATION:America/Toronto
BEGIN:DAYLIGHT
TZNAME:EDT
TZOFFSETFROM:-0500
TZOFFSETTO:-0400
DTSTART:20260308T070000
END:DAYLIGHT
BEGIN:STANDARD
TZNAME:EST
TZOFFSETFROM:-0400
TZOFFSETTO:-0500
DTSTART:20251102T060000
END:STANDARD
END:VTIMEZONE
BEGIN:VEVENT
UID:69e81613d5678
DTSTART;TZID=America/Toronto:20260331T150000
SEQUENCE:0
TRANSP:TRANSPARENT
DTEND;TZID=America/Toronto:20260331T160000
URL:https://uwaterloo.ca/electrical-computer-engineering/events/masc-semina
 r-robust-hardware-assisted-malware-detection
SUMMARY:MASc Seminar: Robust Hardware-Assisted Malware Detection
CLASS:PUBLIC
DESCRIPTION:Candidate: Eli Propp\n\nDate: March 31\, 2026\n\nTime: 3:00 PM\
 n\nLocation: Online\n\nSupervisor: Seyed Majid Zahedi\n\nAll are welcome!
DTSTAMP:20260422T002803Z
END:VEVENT
END:VCALENDAR