BEGIN:VCALENDAR
VERSION:2.0
PRODID:-//Drupal iCal API//EN
X-WR-CALNAME:Events items teaser
X-WR-TIMEZONE:America/Toronto
BEGIN:VTIMEZONE
TZID:America/Toronto
X-LIC-LOCATION:America/Toronto
BEGIN:DAYLIGHT
TZNAME:EDT
TZOFFSETFROM:-0500
TZOFFSETTO:-0400
DTSTART:20260308T070000
END:DAYLIGHT
BEGIN:STANDARD
TZNAME:EST
TZOFFSETFROM:-0400
TZOFFSETTO:-0500
DTSTART:20251102T060000
END:STANDARD
END:VTIMEZONE
BEGIN:VEVENT
UID:69e80686ccd67
DTSTART;TZID=America/Toronto:20260330T100000
SEQUENCE:0
TRANSP:TRANSPARENT
DTEND;TZID=America/Toronto:20260330T120000
URL:https://uwaterloo.ca/electrical-computer-engineering/events/phd-defence
 -notice-verification-and-down-stack
LOCATION:EIT - Centre for Environmental and Information Technology 200 Univ
 ersity Avenue West Room 3142 Waterloo ON N2L 3G1 Canada
SUMMARY:PhD Defence Notice: Verification Up and Down The Stack
CLASS:PUBLIC
DESCRIPTION:Candidate: Joseph Tafese\n\nDate: March 30\, 2026\n\nTime: 10:0
 0 AM\n\nLocation: EIT 3142\n\nSupervisors: Gurfinkel\, Arie
DTSTAMP:20260421T232142Z
END:VEVENT
END:VCALENDAR