BEGIN:VCALENDAR
VERSION:2.0
PRODID:-//Drupal iCal API//EN
X-WR-CALNAME:Events items teaser
X-WR-TIMEZONE:America/Toronto
BEGIN:VTIMEZONE
TZID:America/Toronto
X-LIC-LOCATION:America/Toronto
BEGIN:DAYLIGHT
TZNAME:EDT
TZOFFSETFROM:-0500
TZOFFSETTO:-0400
DTSTART:20260308T070000
END:DAYLIGHT
BEGIN:STANDARD
TZNAME:EST
TZOFFSETFROM:-0400
TZOFFSETTO:-0500
DTSTART:20251102T060000
END:STANDARD
END:VTIMEZONE
BEGIN:VEVENT
UID:69e7ff8ed9d25
DTSTART;TZID=America/Toronto:20260408T123000
SEQUENCE:0
TRANSP:TRANSPARENT
DTEND;TZID=America/Toronto:20260408T133000
URL:https://uwaterloo.ca/electrical-computer-engineering/events/phd-seminar
 -beyond-lab-integrated-biosensing-platforms-point
SUMMARY:PhD Seminar: Beyond the Lab: Integrated Biosensing Platforms for\nP
 oint-of-Care Diagnostics and Continuous Monitoring in Blood\, Skin\,\nand 
 Brain
CLASS:PUBLIC
DESCRIPTION:Candidate: Fatemeh Keyvani\n\nDate: April 8\, 2026\n\nTime: 12:
 30 PM\n\nLocation: Online\n\nSupervisor: Mahla Poudineh\n\nAll are welcome
 !
DTSTAMP:20260421T225158Z
END:VEVENT
END:VCALENDAR