BEGIN:VCALENDAR
VERSION:2.0
PRODID:-//Drupal iCal API//EN
X-WR-CALNAME:Events items teaser
X-WR-TIMEZONE:America/Toronto
BEGIN:VTIMEZONE
TZID:America/Toronto
X-LIC-LOCATION:America/Toronto
BEGIN:DAYLIGHT
TZNAME:EDT
TZOFFSETFROM:-0500
TZOFFSETTO:-0400
DTSTART:20260308T070000
END:DAYLIGHT
BEGIN:STANDARD
TZNAME:EST
TZOFFSETFROM:-0400
TZOFFSETTO:-0500
DTSTART:20251102T060000
END:STANDARD
END:VTIMEZONE
BEGIN:VEVENT
UID:69ec7af832b6a
DTSTART;VALUE=DATE:20260501
SEQUENCE:0
TRANSP:TRANSPARENT
DTEND;VALUE=DATE:20260504
URL:https://uwaterloo.ca/electrical-computer-engineering/events/latch-2026-
 conference-free-and-open-source-silicon
LOCATION:E7 - Engineering 7 200 University Ave West PSE (formerly E7) 4th f
 loor Waterloo ON N2L 3G1 Canada
SUMMARY:Latch-Up 2026: Conference on Free and Open Source Silicon
CLASS:PUBLIC
DESCRIPTION:Latch-Up 2026 invites the free and open-source silicon communit
 y to\nCanada. The FOSSi Foundation is hosting Latch-Up\, a conference\nded
 icated to free and open-source microelectronic chip design\, taking\nplace
  over the weekend of May 1–3\, 2026.\n\nLatch-Up is a weekend of present
 ations and networking for the\nopen-source digital design community\, brin
 ging together students\,\nresearchers\, and industry professionals interes
 ted in open hardware\nand semiconductor innovation.
X-MICROSOFT-CDO-ALLDAYEVENT:TRUE
DTSTAMP:20260425T082736Z
END:VEVENT
END:VCALENDAR