BEGIN:VCALENDAR
VERSION:2.0
PRODID:-//Drupal iCal API//EN
X-WR-CALNAME:Events items teaser
X-WR-TIMEZONE:America/Toronto
BEGIN:VTIMEZONE
TZID:America/Toronto
X-LIC-LOCATION:America/Toronto
BEGIN:DAYLIGHT
TZNAME:EDT
TZOFFSETFROM:-0500
TZOFFSETTO:-0400
DTSTART:20130310T070000
END:DAYLIGHT
BEGIN:STANDARD
TZNAME:EST
TZOFFSETFROM:-0400
TZOFFSETTO:-0500
DTSTART:20121104T060000
END:STANDARD
END:VTIMEZONE
BEGIN:VEVENT
UID:69e8428159833
DTSTART;TZID=America/Toronto:20130905T150000
SEQUENCE:0
TRANSP:TRANSPARENT
DTEND;TZID=America/Toronto:20130905T163000
URL:https://uwaterloo.ca/electrical-computer-engineering/events/distinguish
 ed-lecture-series-professor-roger-howe
LOCATION:EIT building\, University of Waterloo 200 University Avenue West R
 oom 1015 Waterloo ON N2L 3G1 Canada
SUMMARY:Distinguished Lecture Series - Professor Roger Howe
CLASS:PUBLIC
DESCRIPTION:SPEAKER\n\nProfessor Roger Howe\n\nTITLE\n\nVacuum Nano-Systems
  for Energy Conversion
DTSTAMP:20260422T033737Z
END:VEVENT
END:VCALENDAR