BEGIN:VCALENDAR
VERSION:2.0
PRODID:-//Drupal iCal API//EN
X-WR-CALNAME:Events items teaser
X-WR-TIMEZONE:America/Toronto
BEGIN:VTIMEZONE
TZID:America/Toronto
X-LIC-LOCATION:America/Toronto
BEGIN:DAYLIGHT
TZNAME:EDT
TZOFFSETFROM:-0500
TZOFFSETTO:-0400
DTSTART:20240310T070000
END:DAYLIGHT
BEGIN:DAYLIGHT
TZNAME:EDT
TZOFFSETFROM:-0500
TZOFFSETTO:-0400
DTSTART:20230312T070000
END:DAYLIGHT
BEGIN:STANDARD
TZNAME:EST
TZOFFSETFROM:-0400
TZOFFSETTO:-0500
DTSTART:20231105T060000
END:STANDARD
BEGIN:STANDARD
TZNAME:EST
TZOFFSETFROM:-0400
TZOFFSETTO:-0500
DTSTART:20221106T060000
END:STANDARD
END:VTIMEZONE
BEGIN:VEVENT
UID:69e94b79b6dc8
DTSTART;TZID=America/Toronto:20241030T100000
SEQUENCE:0
TRANSP:TRANSPARENT
DTEND;TZID=America/Toronto:20241030T110000
URL:https://uwaterloo.ca/electrical-computer-engineering/events/phd-seminar
 -notice-investigating-and-optimizing-charge
SUMMARY:PhD Seminar Notice: Investigating and Optimizing Charge Balance and
 \nIts Effect on Efficiency and Lifetime of QLEDs
CLASS:PUBLIC
DESCRIPTION:Candidate: Mohsen Azadinia\nDate: October 30\, 2024\nTime: 10:0
 0 AM\nPlace: REMOTE ATTENDANCE\nSupervisor(s): Aziz\, Hany\n 
DTSTAMP:20260422T222809Z
END:VEVENT
BEGIN:VEVENT
UID:69e94b79b7d8e
DTSTART;TZID=America/Toronto:20241030T113000
SEQUENCE:0
TRANSP:TRANSPARENT
DTEND;TZID=America/Toronto:20241030T123000
URL:https://uwaterloo.ca/electrical-computer-engineering/events/phd-seminar
 -notice-performance-analysis-and-comparison-full
LOCATION:EIT - Centre for Environmental and Information Technology 200 Univ
 ersity Avenue West Room 3142 Waterloo ON N2L 3G1 Canada
SUMMARY:PhD Seminar Notice: Performance Analysis and Comparison of\nFull-Fl
 edged 5G Standalone Experimental TDD Testbeds in Single &amp;\nMulti-UE Scenar
 ios
CLASS:PUBLIC
DESCRIPTION:Candidate: Maryam Amini\nDate: October 30\, 2024\nTime: 11:30 A
 M\nPlace: EIT 3142\nSupervisor(s): Rosenberg\, Catherine
DTSTAMP:20260422T222809Z
END:VEVENT
BEGIN:VEVENT
UID:69e94b79b86e6
DTSTART;TZID=America/Toronto:20240501T143000
SEQUENCE:0
TRANSP:TRANSPARENT
DTEND;TZID=America/Toronto:20240501T153000
URL:https://uwaterloo.ca/electrical-computer-engineering/events/masc-semina
 r-radar-based-human-pulse-sensing
LOCATION:EIT - Centre for Environmental and Information Technology 200 Univ
 ersity Avenue West EIT 3145 Waterloo ON N2L 3G1 Canada
SUMMARY:MASc Seminar: Radar-based Human Pulse Sensing
CLASS:PUBLIC
DESCRIPTION:Candidate: Michael Riad\n\nDate: May 1\, 2024\n\nTime: 2:30pm\
 n\nLocation: hybrid - EIT 3145 and on MS Teams\n\nSupervisors: Raafat Man
 sour and George Shaker\n\n_All are welcome!_
DTSTAMP:20260422T222809Z
END:VEVENT
BEGIN:VEVENT
UID:69e94b79b8fe5
DTSTART;TZID=America/Toronto:20240412T110000
SEQUENCE:0
TRANSP:TRANSPARENT
DTEND;TZID=America/Toronto:20240412T120000
URL:https://uwaterloo.ca/electrical-computer-engineering/events/masc-semina
 r-salus-stackelberg-games-malware-detection
SUMMARY:MASc Seminar: Salus: Stackelberg Games for Malware Detection with\n
 Microarchitectural Events
CLASS:PUBLIC
DESCRIPTION:Candidate: Elly Khodaei\n\nDate: April 12\, 2024\n\nTime: 11:0
 0am - 12:00pm\n\nLocation: online\, contact the candidate for information\
 n\nSupervisor: Seyed Majid Zahedi\n\n_All are welcome!_
DTSTAMP:20260422T222809Z
END:VEVENT
BEGIN:VEVENT
UID:69e94b79b969f
DTSTART;TZID=America/Toronto:20240419T120000
SEQUENCE:0
TRANSP:TRANSPARENT
DTEND;TZID=America/Toronto:20240419T130000
URL:https://uwaterloo.ca/electrical-computer-engineering/events/masc-semina
 r-pacs-private-and-adaptive-computational
SUMMARY:MASc Seminar: PACS: Private and Adaptive Computational Sprinting
CLASS:PUBLIC
DESCRIPTION:Candidate: Simon Wu\n\nDate: April 19\, 2024\n\nTime: 12:00pm 
 - 1:00pm\n\nLocation: online\, contact the candidate for information\n\nSu
 pervisor: Seyed Majid Zahedi\n\n_All are welcome!_
DTSTAMP:20260422T222809Z
END:VEVENT
BEGIN:VEVENT
UID:69e94b79b9c6e
DTSTART;TZID=America/Toronto:20240318T140000
SEQUENCE:0
TRANSP:TRANSPARENT
DTEND;TZID=America/Toronto:20240318T150000
URL:https://uwaterloo.ca/electrical-computer-engineering/events/phd-seminar
 -notice-coverage-path-planning-robots-partially
LOCATION:E5 - Engineering 5 room 5106 200 University Avenue West Waterloo O
 N N2L 3G1 Canada
SUMMARY:PhD Seminar Notice: Coverage Path Planning for Robots in Partially\
 nUnknown Environments
CLASS:PUBLIC
DESCRIPTION:Candidate: Megnath Ramesh\nDate: March 18\, 2024\nTime: 2:00 PM
 \nLocation: E5 5106  \nSupervisor(s): Smith\, Stephen – Fidan\, Baris\n
 \n_All are welcome!_
DTSTAMP:20260422T222809Z
END:VEVENT
BEGIN:VEVENT
UID:69e94b79ba47c
DTSTART;TZID=America/Toronto:20240318T120000
SEQUENCE:0
TRANSP:TRANSPARENT
DTEND;TZID=America/Toronto:20240318T130000
URL:https://uwaterloo.ca/electrical-computer-engineering/events/phd-seminar
 -notice-assessment-silicone-rubber-insulation
SUMMARY:PhD Seminar Notice: Assessment of silicone rubber insulation under 
 AC\nand DC stress
CLASS:PUBLIC
DESCRIPTION:Candidate: Basharat Mehmood\nDate: March 18\, 2024\nTime: 12:00
  PM\nLocation: Online - contact the candidate for more information.  \n
 Supervisor(s): El-Hag\, Ayman – Ghunem\, Refat\n\n_All are welcome!_
DTSTAMP:20260422T222809Z
END:VEVENT
BEGIN:VEVENT
UID:69e94b79baa6e
DTSTART;TZID=America/Toronto:20240312T110000
SEQUENCE:0
TRANSP:TRANSPARENT
DTEND;TZID=America/Toronto:20240312T120000
URL:https://uwaterloo.ca/electrical-computer-engineering/events/phd-seminar
 -notice-assessment-outdoor-ceramic-insulators
SUMMARY:PhD Seminar Notice: Assessment of Outdoor ceramic insulators using\
 nnon-intrusive sensors and deep learning models
CLASS:PUBLIC
DESCRIPTION:Candidate: Abdulla Lutfi\nDate: March 12\, 2024\nTime: 11:00 AM
 \nLocation: Online - contact the candidate for more information.  \nSuper
 visor(s): El-Hag\, Ayman – Shaban\, Khaled\n\n_All are welcome!_
DTSTAMP:20260422T222809Z
END:VEVENT
BEGIN:VEVENT
UID:69e94b79bb072
DTSTART;TZID=America/Toronto:20230315T093000
SEQUENCE:0
TRANSP:TRANSPARENT
DTEND;TZID=America/Toronto:20230315T163000
URL:https://uwaterloo.ca/electrical-computer-engineering/events/electrical-
 and-computer-engineering-capstone-design
LOCATION:PSE - Pearl Sullivan Engineering 200 University Ave West 1/F and 2
 /F Waterloo ON N2L 3G1 Canada
SUMMARY:Electrical and Computer Engineering Capstone Design Symposium
CLASS:PUBLIC
DESCRIPTION:Alumni\, students\, employers\, industry partners\, media\, and
  members of\nthe general public are invited to join us in Pearl Sullivan\n
 Engineering for the Electrical and Computer Engineering Capstone\nDesign e
 vent
DTSTAMP:20260422T222809Z
END:VEVENT
BEGIN:VEVENT
UID:69e94b79bb86a
DTSTART;TZID=America/Toronto:20230318T100000
SEQUENCE:0
TRANSP:TRANSPARENT
DTEND;TZID=America/Toronto:20230318T160000
URL:https://uwaterloo.ca/electrical-computer-engineering/events/march-break
 -open-house
LOCATION:E7 - Engineering 7 200 University Ave West Waterloo ON N2L 3G1 Can
 ada
SUMMARY:March Break Open House
CLASS:PUBLIC
DESCRIPTION:Waterloo Engineering welcomes future students and their familie
 s to\nvisit us to discover our undergraduate programs\, campus\, student l
 ife\nand more at this year's March Break Open House
DTSTAMP:20260422T222809Z
END:VEVENT
END:VCALENDAR