BEGIN:VCALENDAR
VERSION:2.0
PRODID:-//Drupal iCal API//EN
X-WR-CALNAME:Events items teaser
X-WR-TIMEZONE:America/Toronto
BEGIN:VTIMEZONE
TZID:America/Toronto
X-LIC-LOCATION:America/Toronto
BEGIN:DAYLIGHT
TZNAME:EDT
TZOFFSETFROM:-0500
TZOFFSETTO:-0400
DTSTART:20260308T070000
END:DAYLIGHT
BEGIN:STANDARD
TZNAME:EST
TZOFFSETFROM:-0400
TZOFFSETTO:-0500
DTSTART:20251102T060000
END:STANDARD
END:VTIMEZONE
BEGIN:VEVENT
UID:69e7c2da96992
DTSTART;TZID=America/Toronto:20260421T093000
SEQUENCE:0
TRANSP:TRANSPARENT
DTEND;TZID=America/Toronto:20260421T113000
URL:https://uwaterloo.ca/electrical-computer-engineering/events/phd-compreh
 ensive-proposal-examination-notice-plasmonic
SUMMARY:PhD Comprehensive Proposal Examination Notice: Plasmonic-Enhanced\n
 GaN-Based MicroLEDs for High-Bandwidth Visible Light Communication
CLASS:PUBLIC
DESCRIPTION:Candidate: Zheng Yan\n\nDate: April 21\, 2026\n\nTime: 9:30 AM\
 n\nLocation: Online - contact the candidate for more information.\n\nSu
 pervisor: Cui\, Bo – Miao\, Guo-Xing
DTSTAMP:20260421T183258Z
END:VEVENT
BEGIN:VEVENT
UID:69e7c2da97b7f
DTSTART;TZID=America/Toronto:20260430T130000
SEQUENCE:0
TRANSP:TRANSPARENT
DTEND;TZID=America/Toronto:20260430T140000
URL:https://uwaterloo.ca/electrical-computer-engineering/events/ieee-solid-
 state-circuits-society-k-w-section-and-uwaterloo-0
LOCATION:EIT - Centre for Environmental and Information Technology 200 Univ
 ersity Avenue West Room 3142 Waterloo ON N2L 3G1 Canada
SUMMARY:IEEE Solid-State Circuits Society K-W Section and UWaterloo Student
 \nBranch Chapter Distinguished Lecture
CLASS:PUBLIC
DESCRIPTION:RETHINKING CHIP DESIGN IN THE AGE OF AI\n\nSpeaker: Professor 
 Mehdi Saligane\, ECE Department\, Brown University\,\nRhode Island\n\nDate
 : April 30\, 2026\n\nTime: 1:00pm to 2:00pm\n\nLocation: EIT 3142
DTSTAMP:20260421T183258Z
END:VEVENT
BEGIN:VEVENT
UID:69e7c2da9872d
DTSTART;TZID=America/Toronto:20260424T110000
SEQUENCE:0
TRANSP:TRANSPARENT
DTEND;TZID=America/Toronto:20260424T120000
URL:https://uwaterloo.ca/electrical-computer-engineering/events/masc-semina
 r-safety-risk-framework-autonomous-driving
SUMMARY:MASc Seminar: Safety Risk Framework for Autonomous Driving Systems\
 nUnder Perception Degradation
CLASS:PUBLIC
DESCRIPTION:Candidate: Spencer Delcore\n\nDate: April 24\, 2026\n\nTime: 11
 :00 AM\n\nLocation: Online\n\nSupervisor: Krzysztof Czarnecki\n\nAll are w
 elcome!
DTSTAMP:20260421T183258Z
END:VEVENT
BEGIN:VEVENT
UID:69e7c2da99101
DTSTART;TZID=America/Toronto:20260417T093000
SEQUENCE:0
TRANSP:TRANSPARENT
DTEND;TZID=America/Toronto:20260417T113000
URL:https://uwaterloo.ca/electrical-computer-engineering/events/phd-defence
 -notice-load-variation-resilient-and-average
LOCATION:EIT - Centre for Environmental and Information Technology 200 Univ
 ersity Avenue West Room 3142 Waterloo ON N2L 3G1 Canada
SUMMARY:PhD Defence Notice: Load Variation Resilient and Average Efficiency
 \nEnhanced Power Amplifiers for 5G/6G MIMO System
CLASS:PUBLIC
DESCRIPTION:Candidate: Hang Yu\n\nDate: April 17\, 2026\n\nTime: 9:30 AM\n\
 nLocation: EIT 3142\n\nSupervisors: Boumaiza\, Slim
DTSTAMP:20260421T183258Z
END:VEVENT
BEGIN:VEVENT
UID:69e7c2da99e71
DTSTART;TZID=America/Toronto:20260413T093000
SEQUENCE:0
TRANSP:TRANSPARENT
DTEND;TZID=America/Toronto:20260413T113000
URL:https://uwaterloo.ca/electrical-computer-engineering/events/phd-compreh
 ensive-proposal-examination-notice-nonlinear
SUMMARY:PhD Comprehensive Proposal Examination Notice: Nonlinear Parametric
 \nProcesses for Generation and Measurement of Continuous-Variable\nQuantum
  States in Superconducting Cavities
CLASS:PUBLIC
DESCRIPTION:Candidate: Andy Schang\n\nDate: April 13\, 2026\n\nTime: 9:30 A
 M\n\nLocation: QNC 1201\n\nSupervisor: Wilson\, Chris
DTSTAMP:20260421T183258Z
END:VEVENT
BEGIN:VEVENT
UID:69e7c2da9a983
DTSTART;TZID=America/Toronto:20260413T090000
SEQUENCE:0
TRANSP:TRANSPARENT
DTEND;TZID=America/Toronto:20260413T110000
URL:https://uwaterloo.ca/electrical-computer-engineering/events/phd-defence
 -notice-stochastic-planning-dual-provision-power
SUMMARY:PhD Defence Notice: Stochastic Planning of Dual-provision\nPower-to
 -hydrogen Systems
CLASS:PUBLIC
DESCRIPTION:Candidate: Haytham Raafat Gamal Ibrahim\n\nDate: April 13\, 202
 6\n\nTime: 9:00 AM\n\nLocation: Online - contact the candidate for more
  information.\n\nSupervisors: Salama\, Magdy
DTSTAMP:20260421T183258Z
END:VEVENT
BEGIN:VEVENT
UID:69e7c2da9b473
DTSTART;TZID=America/Toronto:20260420T103000
SEQUENCE:0
TRANSP:TRANSPARENT
DTEND;TZID=America/Toronto:20260420T113000
URL:https://uwaterloo.ca/electrical-computer-engineering/events/masc-semina
 r-explainability-language-models-security-testing
LOCATION:E5 - Engineering 5 200 University Avenue West E5 4047 Waterloo ON 
 N2L 3G1 Canada
SUMMARY:MASc Seminar: Explainability in Language Models for Security Testin
 g
CLASS:PUBLIC
DESCRIPTION:Candidate: Cameron Hadfield\n\nDate: April 20\, 2026\n\nTime: 1
 0:30 AM\n\nLocation: Hybrid (E5-4047 and Microsoft Teams)\n\nSupervisor: S
 ebastian Fischmeister\n\nAll are welcome!
DTSTAMP:20260421T183258Z
END:VEVENT
BEGIN:VEVENT
UID:69e7c2da9c1c9
DTSTART;TZID=America/Toronto:20260429T100000
SEQUENCE:0
TRANSP:TRANSPARENT
DTEND;TZID=America/Toronto:20260429T110000
URL:https://uwaterloo.ca/electrical-computer-engineering/events/phd-seminar
 -automatic-inference-relational-object-invariants
SUMMARY:PhD Seminar: Automatic Inference of Relational Object Invariants
CLASS:PUBLIC
DESCRIPTION:Candidate: Yusen Su\n\nDate: April 29\, 2026\n\nTime: 10:00 AM\
 n\nLocation: In-person\n\nSupervisor: Arie Gurfinkel\n\nAll are welcome!
DTSTAMP:20260421T183258Z
END:VEVENT
BEGIN:VEVENT
UID:69e7c2da9cb72
DTSTART;TZID=America/Toronto:20260416T140000
SEQUENCE:0
TRANSP:TRANSPARENT
DTEND;TZID=America/Toronto:20260416T150000
URL:https://uwaterloo.ca/electrical-computer-engineering/events/phd-seminar
 -advanced-circuit-and-system-techniques-high
SUMMARY:PhD Seminar: Advanced Circuit and System Techniques for\nHigh-Perfo
 rmance Beamforming Front-ends
CLASS:PUBLIC
DESCRIPTION:Candidate: Mehran Hazer Sahlabadi\n\nDate: April 16\, 2026\n\nT
 ime: 2:00 PM\n\nLocation: Online\n\nSupervisor: Prof. Slim Boumaiza\n\nAll
  are welcome!
DTSTAMP:20260421T183258Z
END:VEVENT
BEGIN:VEVENT
UID:69e7c2da9d25a
DTSTART;TZID=America/Toronto:20260415T140000
SEQUENCE:0
TRANSP:TRANSPARENT
DTEND;TZID=America/Toronto:20260415T150000
URL:https://uwaterloo.ca/electrical-computer-engineering/events/phd-seminar
 -notice-dont-forget-borrows-bringing-ownership
SUMMARY:PhD Seminar Notice: Don’t Forget the Borrows: Bringing Ownership 
 to\nLow-Level Intermediate Representation
CLASS:PUBLIC
DESCRIPTION:Candidate: Siddharth Priya\n\nDate: April 15\, 2026\n\nTime: 2:
 00 PM\n\nLocation: In-person\, contact the candidate\n\nSupervisor: Arie G
 urfinkel\n\nAll are welcome!
DTSTAMP:20260421T183258Z
END:VEVENT
END:VCALENDAR