BEGIN:VCALENDAR
VERSION:2.0
PRODID:-//Drupal iCal API//EN
X-WR-CALNAME:Events items teaser
X-WR-TIMEZONE:America/Toronto
BEGIN:VTIMEZONE
TZID:America/Toronto
X-LIC-LOCATION:America/Toronto
BEGIN:DAYLIGHT
TZNAME:EDT
TZOFFSETFROM:-0500
TZOFFSETTO:-0400
DTSTART:20260308T070000
END:DAYLIGHT
BEGIN:DAYLIGHT
TZNAME:EDT
TZOFFSETFROM:-0500
TZOFFSETTO:-0400
DTSTART:20250309T070000
END:DAYLIGHT
BEGIN:DAYLIGHT
TZNAME:EDT
TZOFFSETFROM:-0500
TZOFFSETTO:-0400
DTSTART:20240310T070000
END:DAYLIGHT
BEGIN:STANDARD
TZNAME:EST
TZOFFSETFROM:-0400
TZOFFSETTO:-0500
DTSTART:20251102T060000
END:STANDARD
BEGIN:STANDARD
TZNAME:EST
TZOFFSETFROM:-0400
TZOFFSETTO:-0500
DTSTART:20241103T060000
END:STANDARD
BEGIN:STANDARD
TZNAME:EST
TZOFFSETFROM:-0400
TZOFFSETTO:-0500
DTSTART:20231105T060000
END:STANDARD
END:VTIMEZONE
BEGIN:VEVENT
UID:69eb657ba9549
DTSTART;TZID=America/Toronto:20260430T130000
SEQUENCE:0
TRANSP:TRANSPARENT
DTEND;TZID=America/Toronto:20260430T140000
URL:https://uwaterloo.ca/electrical-computer-engineering/events/ieee-solid-
 state-circuits-society-k-w-section-and-uwaterloo-0
LOCATION:EIT - Centre for Environmental and Information Technology 200 Univ
 ersity Avenue West Room 3142 Waterloo ON N2L 3G1 Canada
SUMMARY:IEEE Solid-State Circuits Society K-W Section and UWaterloo Student
 \nBranch Chapter Distinguished Lecture
CLASS:PUBLIC
DESCRIPTION:RETHINKING CHIP DESIGN IN THE AGE OF AI\n\nSpeaker: Professor 
 Mehdi Saligane\, ECE Department\, Brown University\,\nRhode Island\n\nDate
 : April 30\, 2026\n\nTime: 1:00pm to 2:00pm\n\nLocation: EIT 3142
DTSTAMP:20260424T124339Z
END:VEVENT
BEGIN:VEVENT
UID:69eb657baa6b9
DTSTART;TZID=America/Toronto:20260327T100000
SEQUENCE:0
TRANSP:TRANSPARENT
DTEND;TZID=America/Toronto:20260327T113000
URL:https://uwaterloo.ca/electrical-computer-engineering/events/ece-invited
 -seminar-mastering-signal-integrity-fundamentals
LOCATION:E7 - Engineering 7 200 University Ave West PSE 7303/7363 Waterloo 
 ON N2L 3G1 Canada
SUMMARY:ECE Invited Seminar: Mastering Signal Integrity: Fundamentals\, Fix
 ture\nCompensation\, and VNA Techniques for Cross-Talk\, Differential\nS-P
 arameters\, and TDR Measurements
CLASS:PUBLIC
DESCRIPTION:Speaker: Aidin Taeb\, RF\, uWave\, Quantum Solution Engineer\,
  Keysight\nTechnologies\n\nDate: March 27\, 2026\n\nTime: 10:00 am to 11:
 30 am\n\nLocation: PSE 7303/7363\n\nAll are welcome!
DTSTAMP:20260424T124339Z
END:VEVENT
BEGIN:VEVENT
UID:69eb657bab20c
DTSTART;TZID=America/Toronto:20260312T110000
SEQUENCE:0
TRANSP:TRANSPARENT
DTEND;TZID=America/Toronto:20260312T120000
URL:https://uwaterloo.ca/electrical-computer-engineering/events/ece-seminar
 -notice-towards-instance-customizable-operating
LOCATION:EIT - Centre for Environmental and Information Technology 200 Univ
 ersity Avenue West Room 3142 Waterloo ON N2L 3G1 Canada
SUMMARY:ECE Seminar Notice: Towards Instance-Customizable Operating Systems
CLASS:PUBLIC
DESCRIPTION:Speaker: Dr. Jing Liu\, Microsoft Research Asia\n\nDate: March
  12\, 2026\n\nTime: 11:00am to 12:00pm\n\nLocation: EIT 3142
DTSTAMP:20260424T124339Z
END:VEVENT
BEGIN:VEVENT
UID:69eb657babcaa
DTSTART;TZID=America/Toronto:20260211T100000
SEQUENCE:0
TRANSP:TRANSPARENT
DTEND;TZID=America/Toronto:20260211T113000
URL:https://uwaterloo.ca/electrical-computer-engineering/events/ieee-solid-
 state-circuits-society-k-w-section-and-uwaterloo
LOCATION:EIT - Centre for Environmental and Information Technology 200 Univ
 ersity Avenue West Room 3142 Waterloo ON N2L 3G1 Canada
SUMMARY:IEEE Solid-State Circuits Society K-W Section and UWaterloo Student
 \nBranch Chapter Distinguished Lecture
CLASS:PUBLIC
DESCRIPTION:Title: Analog-to-Digital Converter Enhancement Techniques in Ad
 vanced\nCMOS Technologies\n\nSpeaker: Dr. Pieter Harpe\, Eindhoven Univers
 ity of Technology\, the\nNetherlands\n\nDate: February 11\, 2026\n\nTime: 
 10:00am to 11:30am\n\nLocation: EIT 3142\n\nAll are welcome!
DTSTAMP:20260424T124339Z
END:VEVENT
BEGIN:VEVENT
UID:69eb657bac67a
DTSTART;TZID=America/Toronto:20251114T133000
SEQUENCE:0
TRANSP:TRANSPARENT
DTEND;TZID=America/Toronto:20251114T144500
URL:https://uwaterloo.ca/electrical-computer-engineering/events/invited-sem
 inar-navigating-signal-domain-understanding
LOCATION:EIT - Centre for Environmental and Information Technology 200 Univ
 ersity Avenue West Room 3142 Waterloo ON N2L 3G1 Canada
SUMMARY:Invited Seminar: Navigating the Signal Domain: Understanding Signal
 \nAnalyzer Fundamentals and Beyond
CLASS:PUBLIC
DESCRIPTION:Speaker: Dr. Aidin Taeb\, RF/Microwave and Quantum Solution Eng
 ineer\,\nKeysight Technologies\n\nDate: November 14\, 2025\n\nTime: 1:30pm
  to 2:45pm\n\nLocation: EIT 3142\n\nOpen to: All faculty\, staff\, and stu
 dents
DTSTAMP:20260424T124339Z
END:VEVENT
BEGIN:VEVENT
UID:69eb657bad043
DTSTART;TZID=America/Toronto:20250731T140000
SEQUENCE:0
TRANSP:TRANSPARENT
DTEND;TZID=America/Toronto:20250731T153000
URL:https://uwaterloo.ca/electrical-computer-engineering/events/ece-invited
 -seminar-mastering-vector-network-analysis
LOCATION:EIT - Centre for Environmental and Information Technology 200 Univ
 ersity Avenue West Room 3142 Waterloo ON N2L 3G1 Canada
SUMMARY:ECE Invited Seminar: Mastering Vector Network Analysis: From\nFunda
 mentals to Advanced Fixturing Techniques
CLASS:PUBLIC
DESCRIPTION:Speaker: Dr. Aidin Taeb\, RF/Microwave and Quantum Solution Eng
 ineer\,\nKeysight Technologies\n\nDate: July 31\, 2025\n\nTime: 2:00pm to 
 3:00pm\n\nLocation: EIT 3142\n\nOpen to: All faculty\, staff\, and student
 s
DTSTAMP:20260424T124339Z
END:VEVENT
BEGIN:VEVENT
UID:69eb657badbad
DTSTART;TZID=America/Toronto:20250703T100000
SEQUENCE:0
TRANSP:TRANSPARENT
DTEND;TZID=America/Toronto:20250703T130000
URL:https://uwaterloo.ca/electrical-computer-engineering/events/invited-sem
 inar-advanced-load-pull-techniques-mmwave
LOCATION:EIT - Centre for Environmental and Information Technology 200 Univ
 ersity Avenue West room 3142 Waterloo ON N2L 3G1 Canada
SUMMARY:Invited Seminar: Advanced Load Pull Techniques for mmWave: Vectoria
 l\nMethods\, Wideband Solutions\, and Noise Parameter Extraction
CLASS:PUBLIC
DESCRIPTION:Speaker: Dr. Sajjad Ahmed\, Director Sales and Business\nDevel
 opment\, Focus Microwaves\n\nDate: July 3\, 2025\n\nTime: 10:00am\n\nLoca
 tion: EIT 3142\n\nInvited by: Dr. Slim Boumaiza\n\nAll are welcome!
DTSTAMP:20260424T124339Z
END:VEVENT
BEGIN:VEVENT
UID:69eb657bae7b2
DTSTART;TZID=America/Toronto:20250703T140000
SEQUENCE:0
TRANSP:TRANSPARENT
DTEND;TZID=America/Toronto:20250703T150000
URL:https://uwaterloo.ca/electrical-computer-engineering/events/invited-sem
 inar-maximizing-rf-and-microwave-performance
LOCATION:EIT - Centre for Environmental and Information Technology 200 Univ
 ersity Avenue West Room 3142 Waterloo ON N2L 3G1 Canada
SUMMARY:Invited Seminar: Maximizing RF and Microwave Performance: The Criti
 cal\nRole of Cable\, Connector\, and Instrument Care
CLASS:PUBLIC
DESCRIPTION:Speaker: Dr. Aidin Taeb\, RF/Microwave and Quantum Solution Eng
 ineer\,\nKeysight Technologies\n\nDate: July 3\, 2025\n\nTime: 2:00pm to 3
 :00pm\n\nLocation: EIT 3142\n\nOpen to: All faculty\, staff\, and students
DTSTAMP:20260424T124339Z
END:VEVENT
BEGIN:VEVENT
UID:69eb657baf234
DTSTART;TZID=America/Toronto:20241030T113000
SEQUENCE:0
TRANSP:TRANSPARENT
DTEND;TZID=America/Toronto:20241030T123000
URL:https://uwaterloo.ca/electrical-computer-engineering/events/phd-seminar
 -notice-performance-analysis-and-comparison-full
LOCATION:EIT - Centre for Environmental and Information Technology 200 Univ
 ersity Avenue West Room 3142 Waterloo ON N2L 3G1 Canada
SUMMARY:PhD Seminar Notice: Performance Analysis and Comparison of\nFull-Fl
 edged 5G Standalone Experimental TDD Testbeds in Single &amp;\nMulti-UE Scenar
 ios
CLASS:PUBLIC
DESCRIPTION:Candidate: Maryam Amini\nDate: October 30\, 2024\nTime: 11:30 A
 M\nPlace: EIT 3142\nSupervisor(s): Rosenberg\, Catherine
DTSTAMP:20260424T124339Z
END:VEVENT
BEGIN:VEVENT
UID:69eb657baf9bb
DTSTART;TZID=America/Toronto:20241015T110000
SEQUENCE:0
TRANSP:TRANSPARENT
DTEND;TZID=America/Toronto:20241015T130000
URL:https://uwaterloo.ca/electrical-computer-engineering/events/phd-compreh
 ensive-proposal-examination-notice-control-and
LOCATION:E5 - Engineering 5 200 University Avenue West room 4047 Waterloo O
 N N2L 3G1 Canada
SUMMARY:PhD Comprehensive Proposal Examination Notice: Control and stabilit
 y\nof grid forming inverters
CLASS:PUBLIC
DESCRIPTION:Candidate: Marzie Mirmohammad Meiguni\n\nDate: October 15\, 202
 4\n\nTime: 11:00 AM\n\nLocation: E5 4047\n\nSupervisor(s): Pirooz Azad\, S
 ahar
DTSTAMP:20260424T124339Z
END:VEVENT
END:VCALENDAR