BEGIN:VCALENDAR
VERSION:2.0
PRODID:-//Drupal iCal API//EN
X-WR-CALNAME:Events items teaser
X-WR-TIMEZONE:America/Toronto
BEGIN:VTIMEZONE
TZID:America/Toronto
X-LIC-LOCATION:America/Toronto
BEGIN:DAYLIGHT
TZNAME:EDT
TZOFFSETFROM:-0500
TZOFFSETTO:-0400
DTSTART:20250309T070000
END:DAYLIGHT
BEGIN:STANDARD
TZNAME:EST
TZOFFSETFROM:-0400
TZOFFSETTO:-0500
DTSTART:20251102T060000
END:STANDARD
END:VTIMEZONE
BEGIN:VEVENT
UID:69b08ab8ce466
DTSTART;TZID=America/Toronto:20251125T130000
SEQUENCE:0
TRANSP:TRANSPARENT
DTEND;TZID=America/Toronto:20251125T140000
URL:https://uwaterloo.ca/engineering-equity-diversity/events/stronger-toget
 her-how-do-we-engage-male-allies-end-gender
SUMMARY:Stronger Together: How do we engage male allies to end gender-based
 \nviolence?
CLASS:PUBLIC
DESCRIPTION:Join the Canadian Coalition of Women in Engineering\, Science\,
  Trades\nand Technology (CCWEST) for a virtual panel discussion to commemo
 rate\nthe beginning of the 16 Days of Activism Against Gender-Based\nViol
 ence\n[https://u14745508.ct.sendgrid.net/ls/click?upn=u001.opHDG2crWT-2FZl
 JRzh4jUfTzyNwqPu-2FoNHGTWjgMOjoE-2FaydPOMIexzMcDICVPg4robV-2FkJIIZF-2F8uR1
 xRgDiNDUvDFmmjO8uIJwjdzLlOlo-2FqKY6vQUNoX1kZFPz1ogFIspM0GlXP3OLCqpAn-2B1Hr
 A-3D-3D3odT_aCPoCMoPgN03musp6DWl9ZoUsVEG7hu1dGw4N1Az1HfwXE-2FDP6KWr8-2F0HD
 KZ3vtvFk0b8NRNgdabEI3h1ZDEVSFMIWMVpasXTYVjrVBWPwGW7GhVkIlfI-2BfPClzjtpbUoy
 uLwrWnQl5zxM1Ncjrmq8VOwVxSgmGdorAyWgMagT6Mb4DIUC09IBQ19sxKe-2BxNf-2F5C1TNL
 w3FNOU4hwQhsEpVbJQjgRK4nXlnm6vTbMta2wym7pIp6wgJgGq6-2B6kHenT-2F1qOvHY2V-2B
 D5KXleSzAZHDiMlN0CYcGJ5wCKeFd7N7kTMjP1Tl4p4EUpurO-2Bg4uBNA9chE2Sce3iPmkbP7
 FHjP-2FcNNTmaom6aNTf0F-2FoO2SeUTqI76-2BqhwKGQFe-2B33Z3TwvkuO4jHXsbmQ-2FSpT
 6TgWgHmdMmqyKOLNr-2BqZ-2BG6rSTj5YQbY7BAWTKPq0AFiTv68VCDKs2tNcpD9Nd-2FzaXNn
 GfegqeQHZkWCNNVlAoc-3D].\n\nContent:\n\n* How to shape potential male alli
 es\n * Identifying and cultivating male allies\n * What do we ask the male
  allies to do on our behalf?
DTSTAMP:20260310T211848Z
END:VEVENT
BEGIN:VEVENT
UID:69b08ab8d3581
DTSTART;TZID=America/Toronto:20251009T110000
SEQUENCE:0
TRANSP:TRANSPARENT
DTEND;TZID=America/Toronto:20251009T130000
URL:https://uwaterloo.ca/engineering-equity-diversity/events/national-comin
 g-out-day-0
SUMMARY:National Coming Out Day
CLASS:PUBLIC
DESCRIPTION:October 9 is National Coming Out Day\, a vital occasion to upli
 ft and\nsupport the 2SLGBTQIA+ community!\n\nWe’ll be hosting a booth in
  the E7 first-floor atrium where you can\naccess resources\, seek support\
 , enjoy a treat\, and capture memories in\nour fun photo booth.
DTSTAMP:20260310T211848Z
END:VEVENT
BEGIN:VEVENT
UID:69b08ab8d45f7
DTSTART;TZID=America/Toronto:20250528T120000
SEQUENCE:0
TRANSP:TRANSPARENT
DTEND;TZID=America/Toronto:20250528T133000
URL:https://uwaterloo.ca/engineering-equity-diversity/events/may-stem-capac
 ity-building-circle-may-28th
SUMMARY:May STEM Capacity Building Circle (May 28th)
CLASS:PUBLIC
DESCRIPTION:In May\, we will be hosting an Open Circle where everyone will
  be\nINVITED TO SHARE QUESTIONS OR EXPLORE TOPICS RELATED TO BUILDING OUR\
 nCAPACITY TO SUPPORT DIVERSITY\, EQUITY\, AND INCLUSION. \n\nThe STEM Cap
 acity Building Circles for employees in the Faculties of\nEngineering\, Ma
 thematics\, and Science will be held on May 28_th_\,\n2025\, from 12:00 PM
  to 1:30 PM. Those registering will be asked if\nthey prefer to join an in
 -person or virtual circle and the format will\nbe decided based on the res
 ponses received.\n\nRegister now viaTICKETFI\n[https://www.ticketfi.com/ev
 ent/6303/may-2025-stem-capacity-building-circle]\nfor more information\, (
 using the code “EICMay2025” to access the\nsite).
DTSTAMP:20260310T211848Z
END:VEVENT
END:VCALENDAR