BEGIN:VCALENDAR
VERSION:2.0
PRODID:-//Drupal iCal API//EN
X-WR-CALNAME:Events items teaser
X-WR-TIMEZONE:America/Toronto
BEGIN:VTIMEZONE
TZID:America/Toronto
X-LIC-LOCATION:America/Toronto
BEGIN:DAYLIGHT
TZNAME:EDT
TZOFFSETFROM:-0500
TZOFFSETTO:-0400
DTSTART:20260308T070000
END:DAYLIGHT
BEGIN:STANDARD
TZNAME:EST
TZOFFSETFROM:-0400
TZOFFSETTO:-0500
DTSTART:20251102T060000
END:STANDARD
END:VTIMEZONE
BEGIN:VEVENT
UID:69e687335bf4e
DTSTART;TZID=America/Toronto:20260525T113000
SEQUENCE:0
TRANSP:TRANSPARENT
DTEND;TZID=America/Toronto:20260525T133000
URL:https://uwaterloo.ca/engineering-wellness-program/events/community-yarn
 -creatures-lunch-time-yarn
LOCATION:CPH - Carl A. Pollock Hall 2376 200 University Avenue West Waterlo
 o ON N2L 3G1 Canada
SUMMARY:Community Yarn Creatures: Lunch-time Yarn-in
CLASS:PUBLIC
DESCRIPTION:MADE BY OUR COMMUNITY FOR OUR COMMUNITY!\n\nJoin other members 
 of the community in making yarn creatures for\nwell-being during our lunch
 time yarn-in. The Community Yarn Creature\nProgram supports our community 
 in three ways:\n\n* DONATE: Decrease your stress and anxiety by declutter
 ing your home\nand donating unneeded creature supplies to us.\n * CREATE:
  Join us and create these adorable creatures. Research\nshows that parti
 cipating in yarn crafts can improve mental health and\nwell-being. (Make o
 ne for yourself and one to give to someone in our\ncommunity).\n * RECEIVE
 : Take one home with you. Yarn creatures can increase joy\nand comfort in
  your home or office. Adopt a yarn creature today! 
DTSTAMP:20260420T200611Z
END:VEVENT
BEGIN:VEVENT
UID:69e687335ff7c
DTSTART;TZID=America/Toronto:20260527T120000
SEQUENCE:0
TRANSP:TRANSPARENT
DTEND;TZID=America/Toronto:20260527T160000
URL:https://uwaterloo.ca/engineering-wellness-program/events/fruit-and-vegg
 ie-market
LOCATION:E7 - Engineering 7 200 University Ave West Waterloo ON N2L 3G1 Can
 ada
SUMMARY:Fruit and Veggie Market
CLASS:PUBLIC
DESCRIPTION:The FoE Community Well-being team is partnering with Produce Pl
 ace\, a\nvendor at the St. Jacob Farmers' Market\, to bring the Fruits and
 \nVegetables to you!\n\nTIME: 12:00 pm (noon) - 4:00 pm (while supplies l
 ast)\n\nLOCATIONS: The market will be held in three locations on the same
 \nday\, at the same time.\n\n* FACULTY OF ENGINEERING: PSE\, 1st floor by
  the Robohub\n * SLC: Student Life Centre Marketplace.\n * EV3: Environm
 ent 3 \n\nWHO CAN ATTEND: All members of the University of Waterloo comm
 unity\nare welcome (students and employees)\n\nPAYMENT OPTIONS: Cash\, de
 bit\, or credit
DTSTAMP:20260420T200611Z
END:VEVENT
END:VCALENDAR