BEGIN:VCALENDAR
VERSION:2.0
PRODID:-//Drupal iCal API//EN
X-WR-CALNAME:Events items teaser
X-WR-TIMEZONE:America/Toronto
BEGIN:VTIMEZONE
TZID:America/Toronto
X-LIC-LOCATION:America/Toronto
BEGIN:DAYLIGHT
TZNAME:EDT
TZOFFSETFROM:-0500
TZOFFSETTO:-0400
DTSTART:20120311T070000
END:DAYLIGHT
BEGIN:STANDARD
TZNAME:EST
TZOFFSETFROM:-0400
TZOFFSETTO:-0500
DTSTART:20111106T060000
END:STANDARD
END:VTIMEZONE
BEGIN:VEVENT
UID:69e92845970a7
DTSTART;TZID=America/Toronto:20120627T100000
SEQUENCE:0
TRANSP:TRANSPARENT
DTEND;TZID=America/Toronto:20120627T110000
URL:https://uwaterloo.ca/engineering/jimford
LOCATION:University of Waterloo E6-2024 Canada
SUMMARY:Honouring Professor Jim Ford
CLASS:PUBLIC
DESCRIPTION:[Professor Jim Ford]Adel Sedra\, Dean of Engineering cordially 
 invites\nyou to the unveiling of the plaque commemorating Professor James 
 Ford.\n\nFor more than 30 years\, Professor Ford taught chemical engineeri
 ng at\nthe University of Waterloo\, specializing in heat transfer and\nsol
 id-gas reactions.
DTSTAMP:20260422T195757Z
END:VEVENT
END:VCALENDAR