BEGIN:VCALENDAR
VERSION:2.0
PRODID:-//Drupal iCal API//EN
X-WR-CALNAME:Events items teaser
X-WR-TIMEZONE:America/Toronto
BEGIN:VTIMEZONE
TZID:America/Toronto
X-LIC-LOCATION:America/Toronto
BEGIN:DAYLIGHT
TZNAME:EDT
TZOFFSETFROM:-0500
TZOFFSETTO:-0400
DTSTART:20120311T070000
END:DAYLIGHT
BEGIN:STANDARD
TZNAME:EST
TZOFFSETFROM:-0400
TZOFFSETTO:-0500
DTSTART:20121104T060000
END:STANDARD
END:VTIMEZONE
BEGIN:VEVENT
UID:69ebfa35eb79f
DTSTART;TZID=America/Toronto:20121201T080000
SEQUENCE:0
TRANSP:TRANSPARENT
DTEND;TZID=America/Toronto:20121201T170000
URL:https://uwaterloo.ca/engineering/events/celluforce-waterloo-design-comp
 etition
LOCATION:Mike &amp; Ophelia Lazaridis Quantum Nano Centre 200 University Avenue
  West QNC 1502 Waterloo ON Canada
SUMMARY:CelluForce-Waterloo Design Competition
CLASS:PUBLIC
DESCRIPTION:The inaugural CelluForce-Waterloo Design Competition will featu
 re 20\nteams of third-year nanotechnology engineering students presenting\
 ninnovative applications of nanocrystalline cellulose (NCC). Used for a\nw
 ide variety of consumer and industrial products in sectors ranging\nfrom h
 ealthcare and cosmetics to energy storage and generation\, NCC\ntechnology
  offers considerable benefit to our world.
DTSTAMP:20260424T231813Z
END:VEVENT
END:VCALENDAR