BEGIN:VCALENDAR
VERSION:2.0
PRODID:-//Drupal iCal API//EN
X-WR-CALNAME:Events items teaser
X-WR-TIMEZONE:America/Toronto
BEGIN:VTIMEZONE
TZID:America/Toronto
X-LIC-LOCATION:America/Toronto
BEGIN:DAYLIGHT
TZNAME:EDT
TZOFFSETFROM:-0500
TZOFFSETTO:-0400
DTSTART:20140309T070000
END:DAYLIGHT
BEGIN:STANDARD
TZNAME:EST
TZOFFSETFROM:-0400
TZOFFSETTO:-0500
DTSTART:20131103T060000
END:STANDARD
END:VTIMEZONE
BEGIN:VEVENT
UID:69eaeac19884d
DTSTART;TZID=America/Toronto:20140320T000000
SEQUENCE:0
TRANSP:TRANSPARENT
DTEND;TZID=America/Toronto:20140320T000000
URL:https://uwaterloo.ca/engineering/events/first-robotics-waterloo-regiona
 l-competition-2014
LOCATION:PAC - Physical Activities Complex 200 University Avenue West Water
 loo ON N2L 3G1 Canada
SUMMARY:FIRST Robotics Waterloo Regional Competition
CLASS:PUBLIC
DESCRIPTION:The University of Waterloo plays host to over 30 FIRST Robotics
 \nCompetition teams whose robots will compete for their schools and the\nc
 ompanies that support them. In the heart of Waterloo’s world-class\nhigh
 -tech corridor\, teams will get a chance at a berth at the FRC\nWorld Cham
 pionship in St. Louis\, Missouri. Come watch the best of the\nbest in engi
 neering compete in the most intense robotic sporting event\non earth.\n\n[
 FIRST Robotics Waterloo Regional Competition]
DTSTAMP:20260424T040001Z
END:VEVENT
BEGIN:VEVENT
UID:69eaeac199ea3
DTSTART;TZID=America/Toronto:20140321T000000
SEQUENCE:0
TRANSP:TRANSPARENT
DTEND;TZID=America/Toronto:20140321T000000
URL:https://uwaterloo.ca/engineering/events/first-robotics-waterloo-regiona
 l-competition-2014
LOCATION:PAC - Physical Activities Complex 200 University Avenue West Water
 loo ON N2L 3G1 Canada
SUMMARY:FIRST Robotics Waterloo Regional Competition
CLASS:PUBLIC
DESCRIPTION:The University of Waterloo plays host to over 30 FIRST Robotics
 \nCompetition teams whose robots will compete for their schools and the\nc
 ompanies that support them. In the heart of Waterloo’s world-class\nhigh
 -tech corridor\, teams will get a chance at a berth at the FRC\nWorld Cham
 pionship in St. Louis\, Missouri. Come watch the best of the\nbest in engi
 neering compete in the most intense robotic sporting event\non earth.\n\n[
 FIRST Robotics Waterloo Regional Competition]
DTSTAMP:20260424T040001Z
END:VEVENT
BEGIN:VEVENT
UID:69eaeac19ab27
DTSTART;TZID=America/Toronto:20140322T000000
SEQUENCE:0
TRANSP:TRANSPARENT
DTEND;TZID=America/Toronto:20140322T000000
URL:https://uwaterloo.ca/engineering/events/first-robotics-waterloo-regiona
 l-competition-2014
LOCATION:PAC - Physical Activities Complex 200 University Avenue West Water
 loo ON N2L 3G1 Canada
SUMMARY:FIRST Robotics Waterloo Regional Competition
CLASS:PUBLIC
DESCRIPTION:The University of Waterloo plays host to over 30 FIRST Robotics
 \nCompetition teams whose robots will compete for their schools and the\nc
 ompanies that support them. In the heart of Waterloo’s world-class\nhigh
 -tech corridor\, teams will get a chance at a berth at the FRC\nWorld Cham
 pionship in St. Louis\, Missouri. Come watch the best of the\nbest in engi
 neering compete in the most intense robotic sporting event\non earth.\n\n[
 FIRST Robotics Waterloo Regional Competition]
DTSTAMP:20260424T040001Z
END:VEVENT
END:VCALENDAR