BEGIN:VCALENDAR
VERSION:2.0
PRODID:-//Drupal iCal API//EN
X-WR-CALNAME:Events items teaser
X-WR-TIMEZONE:America/Toronto
BEGIN:VTIMEZONE
TZID:America/Toronto
X-LIC-LOCATION:America/Toronto
BEGIN:DAYLIGHT
TZNAME:EDT
TZOFFSETFROM:-0500
TZOFFSETTO:-0400
DTSTART:20140309T070000
END:DAYLIGHT
BEGIN:STANDARD
TZNAME:EST
TZOFFSETFROM:-0400
TZOFFSETTO:-0500
DTSTART:20131103T060000
END:STANDARD
END:VTIMEZONE
BEGIN:VEVENT
UID:69e6abeb9641b
DTSTART;TZID=America/Toronto:20140404T133000
SEQUENCE:0
TRANSP:TRANSPARENT
DTEND;TZID=America/Toronto:20140404T163000
URL:https://uwaterloo.ca/engineering/events/esch-entrepreneurship-capstone-
 design-awards
LOCATION:E5 - Engineering 5 200 University Avenue West Sedra Student Design
  Centre Waterloo ON N2L 3G1 Canada
SUMMARY:Esch Entrepreneurship Capstone Design Awards
CLASS:PUBLIC
DESCRIPTION:It was an action packed afternoon as fifteen Capstone Design te
 am\nfinalists pitched their projects to win over $60\,000 in awards!\n\nOn
  April 4\, Waterloo Engineering hosted the first annual Norman Esch\nEntre
 preneurship Awards for Capstone Design\, culminating two weeks of\nextraor
 dinary student innovation at the 2014 Capstone Design Symposia.
DTSTAMP:20260420T224251Z
END:VEVENT
END:VCALENDAR