BEGIN:VCALENDAR
VERSION:2.0
PRODID:-//Drupal iCal API//EN
X-WR-CALNAME:Events items teaser
X-WR-TIMEZONE:America/Toronto
BEGIN:VTIMEZONE
TZID:America/Toronto
X-LIC-LOCATION:America/Toronto
BEGIN:DAYLIGHT
TZNAME:EDT
TZOFFSETFROM:-0500
TZOFFSETTO:-0400
DTSTART:20140309T070000
END:DAYLIGHT
BEGIN:STANDARD
TZNAME:EST
TZOFFSETFROM:-0400
TZOFFSETTO:-0500
DTSTART:20141102T060000
END:STANDARD
END:VTIMEZONE
BEGIN:VEVENT
UID:69ec2dff8b532
DTSTART;TZID=America/Toronto:20141113T190000
SEQUENCE:0
TRANSP:TRANSPARENT
DTEND;TZID=America/Toronto:20141113T190000
URL:https://uwaterloo.ca/engineering/events/arriscraft-lecture-sean-lally
LOCATION:ARC - School of Architecture 7 Melville Street South Cummings Lect
 ure Theatre Cambridge ON N1S 2H4 Canada
SUMMARY:Arriscraft Lecture: Sean Lally
CLASS:PUBLIC
DESCRIPTION:THE AIR FROM OTHER PLANETS\n\nThe greatest challenge facing arc
 hitecture and our broader society\ntoday is the need for advancements in h
 arnessing energy.
DTSTAMP:20260425T025911Z
END:VEVENT
END:VCALENDAR