BEGIN:VCALENDAR
VERSION:2.0
PRODID:-//Drupal iCal API//EN
X-WR-CALNAME:Events items teaser
X-WR-TIMEZONE:America/Toronto
BEGIN:VTIMEZONE
TZID:America/Toronto
X-LIC-LOCATION:America/Toronto
BEGIN:DAYLIGHT
TZNAME:EDT
TZOFFSETFROM:-0500
TZOFFSETTO:-0400
DTSTART:20140309T070000
END:DAYLIGHT
BEGIN:STANDARD
TZNAME:EST
TZOFFSETFROM:-0400
TZOFFSETTO:-0500
DTSTART:20141102T060000
END:STANDARD
END:VTIMEZONE
BEGIN:VEVENT
UID:69e98df807066
DTSTART;TZID=America/Toronto:20150204T123000
SEQUENCE:0
TRANSP:TRANSPARENT
DTEND;TZID=America/Toronto:20150204T123000
URL:https://uwaterloo.ca/engineering/events/engineering-student-exchanges
LOCATION:RCH - J.R. Coutts Engineering Lecture Hall 200 University Avenue W
 est 301 Waterloo ON N2L 3G1 Canada
SUMMARY:Engineering Student Exchanges
CLASS:PUBLIC
DESCRIPTION:There are some wonderful opportunities available for engineerin
 g\nstudents to study for one or two terms at other leading engineering\nsc
 hools worldwide while earning credits toward their Waterloo degree!\n\nFin
 d out how you may be able to take advantage of this.
DTSTAMP:20260423T031152Z
END:VEVENT
END:VCALENDAR