BEGIN:VCALENDAR
VERSION:2.0
PRODID:-//Drupal iCal API//EN
X-WR-CALNAME:Events items teaser
X-WR-TIMEZONE:America/Toronto
BEGIN:VTIMEZONE
TZID:America/Toronto
X-LIC-LOCATION:America/Toronto
BEGIN:DAYLIGHT
TZNAME:EDT
TZOFFSETFROM:-0500
TZOFFSETTO:-0400
DTSTART:20140309T070000
END:DAYLIGHT
BEGIN:STANDARD
TZNAME:EST
TZOFFSETFROM:-0400
TZOFFSETTO:-0500
DTSTART:20141102T060000
END:STANDARD
END:VTIMEZONE
BEGIN:VEVENT
UID:69e9b7d1c31d4
DTSTART;TZID=America/Toronto:20150210T113000
SEQUENCE:0
TRANSP:TRANSPARENT
DTEND;TZID=America/Toronto:20150210T113000
URL:https://uwaterloo.ca/engineering/events/engineering-student-exchanges-1
LOCATION:MC - Mathematics &amp; Computer Building 200 University Avenue West 20
 66 Waterloo ON N2L 3G1 Canada
SUMMARY:Engineering Student Exchanges
CLASS:PUBLIC
DESCRIPTION:There are some wonderful opportunities available for engineerin
 g\nstudents to study for one or two terms at other leading engineering\nsc
 hools worldwide while earning credits toward their Waterloo\ndegree!! \n\
 nFind out how you may be able to take advantage of this!!!
DTSTAMP:20260423T061025Z
END:VEVENT
END:VCALENDAR