BEGIN:VCALENDAR
VERSION:2.0
PRODID:-//Drupal iCal API//EN
X-WR-CALNAME:Events items teaser
X-WR-TIMEZONE:America/Toronto
BEGIN:VTIMEZONE
TZID:America/Toronto
X-LIC-LOCATION:America/Toronto
BEGIN:DAYLIGHT
TZNAME:EDT
TZOFFSETFROM:-0500
TZOFFSETTO:-0400
DTSTART:20140309T070000
END:DAYLIGHT
BEGIN:STANDARD
TZNAME:EST
TZOFFSETFROM:-0400
TZOFFSETTO:-0500
DTSTART:20141102T060000
END:STANDARD
END:VTIMEZONE
BEGIN:VEVENT
UID:69ec164c833c6
DTSTART;TZID=America/Toronto:20150226T190000
SEQUENCE:0
TRANSP:TRANSPARENT
DTEND;TZID=America/Toronto:20150226T190000
URL:https://uwaterloo.ca/engineering/events/architecture-lecture-series-aar
 on-betsky
LOCATION:ARC - School of Architecture 7 Melville Street South Lawrence Cumm
 ings Lecture Theatre Cambridge ON N1S 2H4 Canada
SUMMARY:Architecture Lecture Series - Aaron Betsky
CLASS:PUBLIC
DESCRIPTION:AARON BETSKY\nCurator\, 2015 Shenzhen Biennale of Architecture
  and Urbanism\n\nLecture: _Hunting and Gathering: Tactical Urbanism\, Col
 lage\nArchitecture_
DTSTAMP:20260425T011804Z
END:VEVENT
END:VCALENDAR