BEGIN:VCALENDAR
VERSION:2.0
PRODID:-//Drupal iCal API//EN
X-WR-CALNAME:Events items teaser
X-WR-TIMEZONE:America/Toronto
BEGIN:VTIMEZONE
TZID:America/Toronto
X-LIC-LOCATION:America/Toronto
BEGIN:DAYLIGHT
TZNAME:EDT
TZOFFSETFROM:-0500
TZOFFSETTO:-0400
DTSTART:20150308T070000
END:DAYLIGHT
BEGIN:STANDARD
TZNAME:EST
TZOFFSETFROM:-0400
TZOFFSETTO:-0500
DTSTART:20141102T060000
END:STANDARD
END:VTIMEZONE
BEGIN:VEVENT
UID:69e9e39350deb
DTSTART;TZID=America/Toronto:20150312T163000
SEQUENCE:0
TRANSP:TRANSPARENT
DTEND;TZID=America/Toronto:20150312T163000
URL:https://uwaterloo.ca/engineering/events/german-exchange-opportunities-e
 ngineering-students
LOCATION:DC - William G. Davis Computer Research Centre 200 University Aven
 ue West Room 1304 Waterloo ON N2L 3G1 Canada
SUMMARY:German Exchange Opportunities for Engineering Students
CLASS:PUBLIC
DESCRIPTION:Professor Reinhold Schuster will be hosting this presentation.\
 nEngineering students will find out about the German exchange\nopportuniti
 es available to them.\n\nRefreshments will be served.
DTSTAMP:20260423T091707Z
END:VEVENT
END:VCALENDAR