BEGIN:VCALENDAR
VERSION:2.0
PRODID:-//Drupal iCal API//EN
X-WR-CALNAME:Events items teaser
X-WR-TIMEZONE:America/Toronto
BEGIN:VTIMEZONE
TZID:America/Toronto
X-LIC-LOCATION:America/Toronto
BEGIN:DAYLIGHT
TZNAME:EDT
TZOFFSETFROM:-0500
TZOFFSETTO:-0400
DTSTART:20150308T070000
END:DAYLIGHT
BEGIN:STANDARD
TZNAME:EST
TZOFFSETFROM:-0400
TZOFFSETTO:-0500
DTSTART:20141102T060000
END:STANDARD
END:VTIMEZONE
BEGIN:VEVENT
UID:69e9ce5ce0ea4
DTSTART;TZID=America/Toronto:20151003T000000
SEQUENCE:0
TRANSP:TRANSPARENT
DTEND;TZID=America/Toronto:20151004T000000
URL:https://uwaterloo.ca/engineering/events/waterloo-engineering-reunion-20
 15
LOCATION:E5 - Engineering 5 200 University Avenue West Waterloo ON N2L 3G1 
 Canada
SUMMARY:Waterloo Engineering Reunion 2015
CLASS:PUBLIC
DESCRIPTION:[Waterloo Engineering alumni reunion 2015]\n\nThe Waterloo Engi
 neering alumni reunion in 2015 is taking place on\nOctober 3 and 4\, 2015 
 and invites the engineering Classes of 1960\,\n1965\, 1970\, 1975\, 1980\,
  1985\, 1990\, 1995\, 2000 and 2010 to campus.\n\nJoin your classmates for
  a weekend of reconnecting\, attending\nlectures\, and celebrating togethe
 r at the Reunion dinner.
DTSTAMP:20260423T074636Z
END:VEVENT
END:VCALENDAR