BEGIN:VCALENDAR
VERSION:2.0
PRODID:-//Drupal iCal API//EN
X-WR-CALNAME:Events items teaser
X-WR-TIMEZONE:America/Toronto
BEGIN:VTIMEZONE
TZID:America/Toronto
X-LIC-LOCATION:America/Toronto
BEGIN:DAYLIGHT
TZNAME:EDT
TZOFFSETFROM:-0500
TZOFFSETTO:-0400
DTSTART:20150308T070000
END:DAYLIGHT
BEGIN:STANDARD
TZNAME:EST
TZOFFSETFROM:-0400
TZOFFSETTO:-0500
DTSTART:20141102T060000
END:STANDARD
END:VTIMEZONE
BEGIN:VEVENT
UID:69e9ce5d5dc61
DTSTART;TZID=America/Toronto:20150909T110000
SEQUENCE:0
TRANSP:TRANSPARENT
DTEND;TZID=America/Toronto:20150909T110000
URL:https://uwaterloo.ca/engineering/events/engineering-meet-and-greet-new-
 exchange-students
LOCATION:E5 - Engineering 5 200 University Avenue West Room 3502 Waterloo O
 N N2L 3G1 Canada
SUMMARY:Engineering Meet and Greet for New Exchange Students
CLASS:PUBLIC
DESCRIPTION:The Faculty of Engineering will be hosting a Meet and Greet for
  all\nnew exchange students to engineering.\n\nIt will begin at 11:00 a.m.
  and end at 1:00 p.m.\, and will include\nimportant information about cour
 se enrolment and other matters\nspecific to engineering exchange students.
 \n\nLunch will be provided.
DTSTAMP:20260423T074637Z
END:VEVENT
END:VCALENDAR