BEGIN:VCALENDAR
VERSION:2.0
PRODID:-//Drupal iCal API//EN
X-WR-CALNAME:Events items teaser
X-WR-TIMEZONE:America/Toronto
BEGIN:VTIMEZONE
TZID:America/Toronto
X-LIC-LOCATION:America/Toronto
BEGIN:DAYLIGHT
TZNAME:EDT
TZOFFSETFROM:-0500
TZOFFSETTO:-0400
DTSTART:20150308T070000
END:DAYLIGHT
BEGIN:STANDARD
TZNAME:EST
TZOFFSETFROM:-0400
TZOFFSETTO:-0500
DTSTART:20141102T060000
END:STANDARD
END:VTIMEZONE
BEGIN:VEVENT
UID:69ecb8fe71cf7
DTSTART;TZID=America/Toronto:20151022T103000
SEQUENCE:0
TRANSP:TRANSPARENT
DTEND;TZID=America/Toronto:20151022T113000
URL:https://uwaterloo.ca/engineering/events/wise-lecture-series-impact-ener
 giewende-renewable-energy
LOCATION:DC - William G. Davis Computer Research Centre 200 University Aven
 ue West 1301 Waterloo ON N2L 3G1 Canada
SUMMARY:WISE Lecture Series - The Impact of \"Energiewende\" on Renewable E
 nergy\nin Germany
CLASS:PUBLIC
DESCRIPTION:WISE LECTURE SERIES - THE IMPACT OF \"ENERGIEWENDE\" ON RENEWAB
 LE ENERGY\nIN GERMANY\n\nThe term ‘Energiewende’ refers to the current
  German effort to\ntransition to renewable energy sources. To combat the l
 ong tradition\nof fossil fuel energy generation the German government esta
 blished\n“The Renewable Energy Act” in 2000 and now offers incentives 
 for\nrenewable energy.\nDr. Pehlken will discuss the impact of these inc
 entives with regards\nto best practice\, the need for regulation and unexp
 ected outcomes.\n\nAll are welcome\, refreshments to follow. This is a fre
 e event.
DTSTAMP:20260425T125214Z
END:VEVENT
END:VCALENDAR