BEGIN:VCALENDAR
VERSION:2.0
PRODID:-//Drupal iCal API//EN
X-WR-CALNAME:Events items teaser
X-WR-TIMEZONE:America/Toronto
BEGIN:VTIMEZONE
TZID:America/Toronto
X-LIC-LOCATION:America/Toronto
BEGIN:DAYLIGHT
TZNAME:EDT
TZOFFSETFROM:-0500
TZOFFSETTO:-0400
DTSTART:20150308T070000
END:DAYLIGHT
BEGIN:STANDARD
TZNAME:EST
TZOFFSETFROM:-0400
TZOFFSETTO:-0500
DTSTART:20141102T060000
END:STANDARD
END:VTIMEZONE
BEGIN:VEVENT
UID:69eb91d8a8af4
DTSTART;TZID=America/Toronto:20151027T143000
SEQUENCE:0
TRANSP:TRANSPARENT
DTEND;TZID=America/Toronto:20151027T163000
URL:https://uwaterloo.ca/engineering/events/teaching-learning-event-2015
LOCATION:E5 - Engineering 5 200 University Avenue West 2004 Waterloo ON N2L
  3G1 Canada
SUMMARY:Threshold / Troublesome Concepts: What MUST We Teach?
CLASS:PUBLIC
DESCRIPTION:Our disciplines abound with fascinating\, rich\, and important 
 concepts\nto teach. Yet how do we decide on which concepts to focus when\n
 designing courses and programs?
DTSTAMP:20260424T155256Z
END:VEVENT
END:VCALENDAR