BEGIN:VCALENDAR
VERSION:2.0
PRODID:-//Drupal iCal API//EN
X-WR-CALNAME:Events items teaser
X-WR-TIMEZONE:America/Toronto
BEGIN:VTIMEZONE
TZID:America/Toronto
X-LIC-LOCATION:America/Toronto
BEGIN:DAYLIGHT
TZNAME:EDT
TZOFFSETFROM:-0500
TZOFFSETTO:-0400
DTSTART:20150308T070000
END:DAYLIGHT
BEGIN:STANDARD
TZNAME:EST
TZOFFSETFROM:-0400
TZOFFSETTO:-0500
DTSTART:20151101T060000
END:STANDARD
END:VTIMEZONE
BEGIN:VEVENT
UID:69e9b7ce48f17
DTSTART;TZID=America/Toronto:20151110T120000
SEQUENCE:0
TRANSP:TRANSPARENT
DTEND;TZID=America/Toronto:20151110T130000
URL:https://uwaterloo.ca/engineering/events/stress-reduction-drop-sessions
LOCATION:CPH - Carl A. Pollock Hall 200 University Avenue West 1320B Waterl
 oo ON N2L 3G1 Canada
SUMMARY:Stress reduction drop-in sessions
CLASS:PUBLIC
DESCRIPTION:“_Feeling stressed? Come join us on Tuesdays at lunch and enj
 oy a\nrelaxing\, stress-free space. We will have yoga mats\, tea\, art-sup
 plies\nand other leisure activities and resources to help you find your\nc
 alm.” _One of the Engineering Counsellors (Kristine Meier\, Fiona\nDhana
 pala\, or Cassie Smith) will be available for the hour\, for\nengineering 
 students who wish to have an informal chat about stress\nmanagement strate
 gies.
DTSTAMP:20260423T061022Z
END:VEVENT
BEGIN:VEVENT
UID:69e9b7ce4a3bf
DTSTART;TZID=America/Toronto:20151117T120000
SEQUENCE:0
TRANSP:TRANSPARENT
DTEND;TZID=America/Toronto:20151117T130000
URL:https://uwaterloo.ca/engineering/events/stress-reduction-drop-sessions
LOCATION:CPH - Carl A. Pollock Hall 200 University Avenue West 1320B Waterl
 oo ON N2L 3G1 Canada
SUMMARY:Stress reduction drop-in sessions
CLASS:PUBLIC
DESCRIPTION:“_Feeling stressed? Come join us on Tuesdays at lunch and enj
 oy a\nrelaxing\, stress-free space. We will have yoga mats\, tea\, art-sup
 plies\nand other leisure activities and resources to help you find your\nc
 alm.” _One of the Engineering Counsellors (Kristine Meier\, Fiona\nDhana
 pala\, or Cassie Smith) will be available for the hour\, for\nengineering 
 students who wish to have an informal chat about stress\nmanagement strate
 gies.
DTSTAMP:20260423T061022Z
END:VEVENT
BEGIN:VEVENT
UID:69e9b7ce4b052
DTSTART;TZID=America/Toronto:20151124T120000
SEQUENCE:0
TRANSP:TRANSPARENT
DTEND;TZID=America/Toronto:20151124T130000
URL:https://uwaterloo.ca/engineering/events/stress-reduction-drop-sessions
LOCATION:CPH - Carl A. Pollock Hall 200 University Avenue West 1320B Waterl
 oo ON N2L 3G1 Canada
SUMMARY:Stress reduction drop-in sessions
CLASS:PUBLIC
DESCRIPTION:“_Feeling stressed? Come join us on Tuesdays at lunch and enj
 oy a\nrelaxing\, stress-free space. We will have yoga mats\, tea\, art-sup
 plies\nand other leisure activities and resources to help you find your\nc
 alm.” _One of the Engineering Counsellors (Kristine Meier\, Fiona\nDhana
 pala\, or Cassie Smith) will be available for the hour\, for\nengineering 
 students who wish to have an informal chat about stress\nmanagement strate
 gies.
DTSTAMP:20260423T061022Z
END:VEVENT
BEGIN:VEVENT
UID:69e9b7ce4bb25
DTSTART;TZID=America/Toronto:20151201T120000
SEQUENCE:0
TRANSP:TRANSPARENT
DTEND;TZID=America/Toronto:20151201T130000
URL:https://uwaterloo.ca/engineering/events/stress-reduction-drop-sessions
LOCATION:CPH - Carl A. Pollock Hall 200 University Avenue West 1320B Waterl
 oo ON N2L 3G1 Canada
SUMMARY:Stress reduction drop-in sessions
CLASS:PUBLIC
DESCRIPTION:“_Feeling stressed? Come join us on Tuesdays at lunch and enj
 oy a\nrelaxing\, stress-free space. We will have yoga mats\, tea\, art-sup
 plies\nand other leisure activities and resources to help you find your\nc
 alm.” _One of the Engineering Counsellors (Kristine Meier\, Fiona\nDhana
 pala\, or Cassie Smith) will be available for the hour\, for\nengineering 
 students who wish to have an informal chat about stress\nmanagement strate
 gies.
DTSTAMP:20260423T061022Z
END:VEVENT
BEGIN:VEVENT
UID:69e9b7ce4c608
DTSTART;TZID=America/Toronto:20151208T120000
SEQUENCE:0
TRANSP:TRANSPARENT
DTEND;TZID=America/Toronto:20151208T130000
URL:https://uwaterloo.ca/engineering/events/stress-reduction-drop-sessions
LOCATION:CPH - Carl A. Pollock Hall 200 University Avenue West 1320B Waterl
 oo ON N2L 3G1 Canada
SUMMARY:Stress reduction drop-in sessions
CLASS:PUBLIC
DESCRIPTION:“_Feeling stressed? Come join us on Tuesdays at lunch and enj
 oy a\nrelaxing\, stress-free space. We will have yoga mats\, tea\, art-sup
 plies\nand other leisure activities and resources to help you find your\nc
 alm.” _One of the Engineering Counsellors (Kristine Meier\, Fiona\nDhana
 pala\, or Cassie Smith) will be available for the hour\, for\nengineering 
 students who wish to have an informal chat about stress\nmanagement strate
 gies.
DTSTAMP:20260423T061022Z
END:VEVENT
END:VCALENDAR