BEGIN:VCALENDAR
VERSION:2.0
PRODID:-//Drupal iCal API//EN
X-WR-CALNAME:Events items teaser
X-WR-TIMEZONE:America/Toronto
BEGIN:VTIMEZONE
TZID:America/Toronto
X-LIC-LOCATION:America/Toronto
BEGIN:DAYLIGHT
TZNAME:EDT
TZOFFSETFROM:-0500
TZOFFSETTO:-0400
DTSTART:20150308T070000
END:DAYLIGHT
BEGIN:STANDARD
TZNAME:EST
TZOFFSETFROM:-0400
TZOFFSETTO:-0500
DTSTART:20151101T060000
END:STANDARD
END:VTIMEZONE
BEGIN:VEVENT
UID:69ecfbc513383
DTSTART;TZID=America/Toronto:20160204T130000
SEQUENCE:0
TRANSP:TRANSPARENT
DTEND;TZID=America/Toronto:20160204T143000
URL:https://uwaterloo.ca/engineering/events/public-lecture-series-electric-
 vehicle-ev-charging
LOCATION:DC - William G. Davis Computer Research Centre 200 University Aven
 ue West 1304 Waterloo ON N2L 3G1 Canada
SUMMARY:Public Lecture Series: Electric Vehicle (EV) Charging
CLASS:PUBLIC
DESCRIPTION:Join us for a lecture by Klaus Dohring\, President of Green Sun
  Rising\nInc. as he discusses electric vehicle (EV) charging and the growi
 ng\nclean-tech industry. In this EV charging presentation you will learn\n
 about:
DTSTAMP:20260425T173709Z
END:VEVENT
END:VCALENDAR