BEGIN:VCALENDAR
VERSION:2.0
PRODID:-//Drupal iCal API//EN
X-WR-CALNAME:Events items teaser
X-WR-TIMEZONE:America/Toronto
BEGIN:VTIMEZONE
TZID:America/Toronto
X-LIC-LOCATION:America/Toronto
BEGIN:DAYLIGHT
TZNAME:EDT
TZOFFSETFROM:-0500
TZOFFSETTO:-0400
DTSTART:20160313T070000
END:DAYLIGHT
BEGIN:STANDARD
TZNAME:EST
TZOFFSETFROM:-0400
TZOFFSETTO:-0500
DTSTART:20151101T060000
END:STANDARD
END:VTIMEZONE
BEGIN:VEVENT
UID:69ece64ab948d
DTSTART;TZID=America/Toronto:20160412T103000
SEQUENCE:0
TRANSP:TRANSPARENT
DTEND;TZID=America/Toronto:20160412T113000
URL:https://uwaterloo.ca/engineering/events/wise-public-lecture-series-insi
 ghts-considerations-pex
SUMMARY:WISE Public Lecture Series: Insights &amp; Considerations for PEX Plumb
 ing\nApplications
CLASS:PUBLIC
DESCRIPTION:&gt; Teresa Jiang graduated from the University of British
  Columbia with\n&gt; a Bachelor’s in Applied Science. She has ove
 r 8 years of\n&gt; experience with testing and certification of bui
 lding and\n&gt; construction products. She is the Business Developmen
 t manager for\n&gt; Uponor Central Canada\, and is responsible for 
 educating the\n&gt; marketplace regarding the basic and complex prope
 rties of PEX-a in\n&gt; various commercial and residential constructi
 on applications.
DTSTAMP:20260425T160530Z
END:VEVENT
END:VCALENDAR