BEGIN:VCALENDAR
VERSION:2.0
PRODID:-//Drupal iCal API//EN
X-WR-CALNAME:Events items teaser
X-WR-TIMEZONE:America/Toronto
BEGIN:VTIMEZONE
TZID:America/Toronto
X-LIC-LOCATION:America/Toronto
BEGIN:DAYLIGHT
TZNAME:EDT
TZOFFSETFROM:-0500
TZOFFSETTO:-0400
DTSTART:20160313T070000
END:DAYLIGHT
BEGIN:STANDARD
TZNAME:EST
TZOFFSETFROM:-0400
TZOFFSETTO:-0500
DTSTART:20151101T060000
END:STANDARD
END:VTIMEZONE
BEGIN:VEVENT
UID:69e9531e7b6f2
DTSTART;TZID=America/Toronto:20161015T090000
SEQUENCE:0
TRANSP:TRANSPARENT
DTEND;TZID=America/Toronto:20161015T130000
URL:https://uwaterloo.ca/engineering/events/go-eng-girl
LOCATION:Waterloo Engineering 200 University Avenue West Waterloo ON N2L 3G
 1 Canada
SUMMARY:Go ENG Girl
CLASS:PUBLIC
DESCRIPTION:[Go Eng Girl logo]\n\nEXPLORE THE EXCITING FIELD OF ENGINEERING
 ! Go ENG Girl is an\nexciting opportunity for Grade 7 - 10 girls to vis
 it the University of\nWaterloo and learn about the wonderful world of engi
 neering. Meet\nwomen currently studying engineering\, learn about some of
  the amazing\nthings women engineers are doing\, and participate in a cool
  hands-on\nactivity.
DTSTAMP:20260422T230046Z
END:VEVENT
END:VCALENDAR