BEGIN:VCALENDAR
VERSION:2.0
PRODID:-//Drupal iCal API//EN
X-WR-CALNAME:Events items teaser
X-WR-TIMEZONE:America/Toronto
BEGIN:VTIMEZONE
TZID:America/Toronto
X-LIC-LOCATION:America/Toronto
BEGIN:DAYLIGHT
TZNAME:EDT
TZOFFSETFROM:-0500
TZOFFSETTO:-0400
DTSTART:20170312T070000
END:DAYLIGHT
BEGIN:STANDARD
TZNAME:EST
TZOFFSETFROM:-0400
TZOFFSETTO:-0500
DTSTART:20161106T060000
END:STANDARD
END:VTIMEZONE
BEGIN:VEVENT
UID:69e98b7b6c2a5
DTSTART;TZID=America/Toronto:20170601T113000
SEQUENCE:0
TRANSP:TRANSPARENT
DTEND;TZID=America/Toronto:20170601T113000
URL:https://uwaterloo.ca/engineering/events/engineering-exchange-informatio
 n-session-5
LOCATION:E5 - Engineering 5 200 University Avenue West Room 3102 Waterloo O
 N N2L 3G1 Canada
SUMMARY:Engineering Exchange Information Session
CLASS:PUBLIC
DESCRIPTION:[globe surrounded by stick people]Are you an engineering studen
 t\ninterested in studying abroad to earn credits toward your Waterloo\ndeg
 ree?\n\nThen plan to attend this information session where Cindy Howe\,\nA
 dministrative Coordinator\, Faculty Exchange Office\, will give you all\nt
 he details.
DTSTAMP:20260423T030115Z
END:VEVENT
END:VCALENDAR