BEGIN:VCALENDAR
VERSION:2.0
PRODID:-//Drupal iCal API//EN
X-WR-CALNAME:Events items teaser
X-WR-TIMEZONE:America/Toronto
BEGIN:VTIMEZONE
TZID:America/Toronto
X-LIC-LOCATION:America/Toronto
BEGIN:DAYLIGHT
TZNAME:EDT
TZOFFSETFROM:-0500
TZOFFSETTO:-0400
DTSTART:20170312T070000
END:DAYLIGHT
BEGIN:STANDARD
TZNAME:EST
TZOFFSETFROM:-0400
TZOFFSETTO:-0500
DTSTART:20171105T060000
END:STANDARD
END:VTIMEZONE
BEGIN:VEVENT
UID:69e6abf31ca5b
DTSTART;TZID=America/Toronto:20171114T100000
SEQUENCE:0
TRANSP:TRANSPARENT
DTEND;TZID=America/Toronto:20171114T110000
URL:https://uwaterloo.ca/engineering/events/lecture-magnetic-resonance-imag
 ing-drfrayne
LOCATION:EIT - Centre for Environmental and Information Technology 200 Univ
 ersity Avenue West Room 3142 Waterloo ON N2L 3G1 Canada
SUMMARY:Distinguished Alumni Lecture: \"Sparse Sampling and Constrained\nRe
 construction in Magnetic Resonance Imaging\" by Dr. Richard Frayne
CLASS:PUBLIC
DESCRIPTION:DISTINGUISHED ALUMNI LECTURE: \"SPARSE SAMPLING AND CONSTRAINED
 \nRECONSTRUCTION IN MAGNETIC RESONANCE IMAGING\" BY DR. RICHARD FRAYNE 
DTSTAMP:20260420T224259Z
END:VEVENT
END:VCALENDAR